BEGIN:VCALENDAR
VERSION:2.0
PRODID:-//Easthampton City Arts - ECPv6.15.18//NONSGML v1.0//EN
CALSCALE:GREGORIAN
METHOD:PUBLISH
X-WR-CALNAME:Easthampton City Arts
X-ORIGINAL-URL:https://www.easthamptoncityarts.com
X-WR-CALDESC:Events for Easthampton City Arts
REFRESH-INTERVAL;VALUE=DURATION:PT1H
X-Robots-Tag:noindex
X-PUBLISHED-TTL:PT1H
BEGIN:VTIMEZONE
TZID:America/New_York
BEGIN:DAYLIGHT
TZOFFSETFROM:-0500
TZOFFSETTO:-0400
TZNAME:EDT
DTSTART:20220313T070000
END:DAYLIGHT
BEGIN:STANDARD
TZOFFSETFROM:-0400
TZOFFSETTO:-0500
TZNAME:EST
DTSTART:20221106T060000
END:STANDARD
BEGIN:DAYLIGHT
TZOFFSETFROM:-0500
TZOFFSETTO:-0400
TZNAME:EDT
DTSTART:20230312T070000
END:DAYLIGHT
BEGIN:STANDARD
TZOFFSETFROM:-0400
TZOFFSETTO:-0500
TZNAME:EST
DTSTART:20231105T060000
END:STANDARD
BEGIN:DAYLIGHT
TZOFFSETFROM:-0500
TZOFFSETTO:-0400
TZNAME:EDT
DTSTART:20240310T070000
END:DAYLIGHT
BEGIN:STANDARD
TZOFFSETFROM:-0400
TZOFFSETTO:-0500
TZNAME:EST
DTSTART:20241103T060000
END:STANDARD
END:VTIMEZONE
BEGIN:VEVENT
DTSTART;TZID=America/New_York:20230804T170000
DTEND;TZID=America/New_York:20230804T200000
DTSTAMP:20260424T180248
CREATED:20230713T231624Z
LAST-MODIFIED:20230724T185327Z
UID:13239-1691168400-1691179200@www.easthamptoncityarts.com
SUMMARY:Rock\, Paper\, Scissors\, Margaret Humbert-Droz at Oxbox Gallery
DESCRIPTION:Oxbow Gallery in Easthampton\, www.oxbowgallery.com. \nForget the rock; to paper and scissors add glue-sticks\, a utility knife\, a swivel knife\, acrylic paint as well as found bits and pieces\, and you have the tools Margaret Humbert-Droz uses for her collages and cut paper pieces.  Her images riff on Euclid’s Elements of Geometry as well as nature’s Elements\, such as wind and rain. Flower seed catalogs are chopped up and re-assembled in colourful patterns based on traditional medieval motifs. In another group of images sinuous cuts into white paper create a dimensional effect that plays with light \, suggesting flow and movement.
URL:https://www.easthamptoncityarts.com/event/rock-paper-scissors-margaret-humbert-droz-back-gallery/
LOCATION:Oxbow Gallery\, 273 Pleasant St\, Northampton\, MA\, 01060\, United States
CATEGORIES:Art Walk
ATTACH;FMTTYPE=image/jpeg:https://www.easthamptoncityarts.com/wp-content/uploads/2023/07/margaret.jpeg
END:VEVENT
BEGIN:VEVENT
DTSTART;TZID=America/New_York:20230804T170000
DTEND;TZID=America/New_York:20230804T200000
DTSTAMP:20260424T180248
CREATED:20230724T181454Z
LAST-MODIFIED:20230724T195720Z
UID:13242-1691168400-1691179200@www.easthamptoncityarts.com
SUMMARY:CELEBRATING CONNECTIONS - August - new Exhibit Opens at Oxbow Gallery in Easthampton
DESCRIPTION:Opening Reception for  — Celebrating Connections:  the Art Collection of Kathy Service.  Curated by Deborra Stewart-Pettengill who says\, …”to celebrate Kathy Service\, for all of her contributions to Oxbow Gallery over the years…a show of works from Kathy’s personal collection.  Works by many regional artists are included — Martha Armstrong\, Richard Yarde\, Liz Chalfin\, Nanny Vonnegut\, Fran Kidder\, Barry Moser\, Nancy Haver\, Justin Kim\, Cyndy Sperry and Marlene Rye.  ECA Art Walk Aug 10 – Gallery Reception\, Aug 4 – Conversation with Kathy\, Aug 6.
URL:https://www.easthamptoncityarts.com/event/celebrating-connections-august-new-exhibit-opens-at-oxbow-gallery-in-easthamptom/
LOCATION:Oxbow Art Gallery\, 40 Cottage Street\, Easthampton\, MA\, 01027\, United States
CATEGORIES:Art Walk,Easthampton Events
ATTACH;FMTTYPE=image/jpeg:https://www.easthamptoncityarts.com/wp-content/uploads/2023/07/digital-postcard-kathy-service-copy.jpg
ORGANIZER;CN="Oxbow Art Gallery":MAILTO:theoxbowgallery@gmail.com
END:VEVENT
BEGIN:VEVENT
DTSTART;TZID=America/New_York:20230804T170000
DTEND;TZID=America/New_York:20230804T200000
DTSTAMP:20260424T180248
CREATED:20230911T190516Z
LAST-MODIFIED:20230911T190516Z
UID:13252-1691168400-1691179200@www.easthamptoncityarts.com
SUMMARY:The Art Collection of Kathy Service:  CELEBRATING CONNECTIONS
DESCRIPTION:At Oxbow Gallery in Easthampton\, MA.  This large group show includes paintings and sculptures by 60 artists.  Curator Deborra Stewart-Pettengill  says it includes Regional Artists including Martha Armstrong\, Richard Yarde\, Liz Chalfin\, Nanny Vonnegut\, Fran Kidder\, Barry Moser\, Nancy Haver\, Justin Kim\, Cyndy Sperry\, Marlene Rye and Scott Prior.
URL:https://www.easthamptoncityarts.com/event/the-art-collection-of-kathy-service-celebrating-connections/
LOCATION:Oxbow Gallery\, 273 Pleasant St\, Northampton\, MA\, 01060\, United States
CATEGORIES:Signature Events
ATTACH;FMTTYPE=image/jpeg:https://www.easthamptoncityarts.com/wp-content/uploads/2023/07/digital-postcard-kathy-service-1-1.jpg
ORGANIZER;CN="Oxbow Gallery":MAILTO:theoxbowgallery@gmail.com
END:VEVENT
BEGIN:VEVENT
DTSTART;TZID=America/New_York:20230806T150000
DTEND;TZID=America/New_York:20230806T163000
DTSTAMP:20260424T180248
CREATED:20230724T180949Z
LAST-MODIFIED:20230724T180949Z
UID:13254-1691334000-1691339400@www.easthamptoncityarts.com
SUMMARY:CONVERSATION WITH A COLLECTOR - Kathy Service and Cathy Osman
DESCRIPTION:Kathy Service’s art collection is on view at Oxbow Gallery.  Artist/Art Historian/Professor Cathy Osman will interview Kathy Service.  A lifelong resident of Northampton\, Kathy Service has been friend and supporter with artists and has served on Mass Cultural Council.  Seating will be provided for the audience. \nSunday August 6 at 3 pm at Oxbow Gallery\, 40 Cottage Street\, Easthampton\, MA.  Free
URL:https://www.easthamptoncityarts.com/event/conversation-with-a-collector-kathy-service-and-cathy-osman/
LOCATION:Oxbow Gallery\, 273 Pleasant St\, Northampton\, MA\, 01060\, United States
CATEGORIES:Easthampton Events
ATTACH;FMTTYPE=image/jpeg:https://www.easthamptoncityarts.com/wp-content/uploads/2023/07/digital-postcard-kathy-service-1-2.jpg
ORGANIZER;CN="Oxbow Gallery":MAILTO:theoxbowgallery@gmail.com
END:VEVENT
BEGIN:VEVENT
DTSTART;TZID=America/New_York:20230806T150000
DTEND;TZID=America/New_York:20230806T163000
DTSTAMP:20260424T180248
CREATED:20230724T181128Z
LAST-MODIFIED:20230724T181128Z
UID:13244-1691334000-1691339400@www.easthamptoncityarts.com
SUMMARY:Conversation with the Collector - live interview at Oxbow Gallery
DESCRIPTION:The exhibit on view in August is CELEBRATING CONNECTIONS; THE COLLECTION OF KATHY SERVICE.  Over many years\, Northampton native Kathy Service built an art collection which includes many regional artists.   Curator Deborra Stewart-Pettengill decided to offer the Public an opportunity to listen to Kathy’s stories about her artworks and collecting.  Kathy will be interviewed by artist/art historian/educator CATHY OSMAN.  Chairs will be offered for the audience.  3 pm. Sunday\, August 6\, 3 pm\, free.
URL:https://www.easthamptoncityarts.com/event/conversation-with-the-collector-live-interview-at-oxbow-gallery/
LOCATION:Oxbow Art Gallery\, 40 Cottage Street\, Easthampton\, MA\, 01027\, United States
CATEGORIES:Signature Events
ATTACH;FMTTYPE=image/jpeg:https://www.easthamptoncityarts.com/wp-content/uploads/2023/07/digital-postcard-kathy-service-copy-1.jpg
ORGANIZER;CN="Oxbow Art Gallery":MAILTO:theoxbowgallery@gmail.com
END:VEVENT
BEGIN:VEVENT
DTSTART;TZID=America/New_York:20230810T170000
DTEND;TZID=America/New_York:20230810T200000
DTSTAMP:20260424T180248
CREATED:20230629T174520Z
LAST-MODIFIED:20230808T151037Z
UID:13213-1691686800-1691697600@www.easthamptoncityarts.com
SUMMARY:The Summer of iZM
DESCRIPTION:The Elusie Gallery: July 12 – August 9 \nA two months long exhibit featuring a selection of paintings and portraits by iZM PRiZM. \niZM PRiZM (Orlando Santos when he doesn’t have a paintbrush in his hands) was born in Holyoke MA fifty years ago. It is where he still lives\, and where his studio is located. He started painting only a few years ago\, as something to do with his daughter…\nWithout formal training\, but inspired by artists such as Basquiat and Van Gogh\, iZM PRiZM has developed a powerful style full of colors and energy. So much so that we gave him two months to express himself at the Elusie Gallery. More details to come\, check the Elusie Gallery page on our website for updates.
URL:https://www.easthamptoncityarts.com/event/the-summer-of-izm/
LOCATION:Elusie Gallery at Big Red Frame\, 43 Main Street\, Easthampton\, MA\, 01027\, United States
CATEGORIES:Art Walk
ATTACH;FMTTYPE=image/jpeg:https://www.easthamptoncityarts.com/wp-content/uploads/2023/06/received_683249010481825.jpeg
END:VEVENT
BEGIN:VEVENT
DTSTART;TZID=America/New_York:20230810T170000
DTEND;TZID=America/New_York:20230810T200000
DTSTAMP:20260424T180248
CREATED:20230807T154729Z
LAST-MODIFIED:20230807T154729Z
UID:13272-1691686800-1691697600@www.easthamptoncityarts.com
SUMMARY:Images by Renee Hill
DESCRIPTION:Now showing on the walls of Mt. Tom’s Homemade Ice Cream\, a selection of my favorite macro images of interesting crawling things like you’ve never seen them!  I hope you can stop by for a look on Thursday or anytime in August.
URL:https://www.easthamptoncityarts.com/event/images-by-renee-hill/
LOCATION:Mt. Tom’s Homemade Ice Cream\, 34 Cottage Street\, Easthampton\, MA\, 01027\, United States
CATEGORIES:Art Walk
ATTACH;FMTTYPE=image/jpeg:https://www.easthamptoncityarts.com/wp-content/uploads/2023/08/processed-185436ab-bdea-4148-8b86-50aa73b446db-e4869b3d-347a-4d71-a926-6e0c34683229.jpeg.jpeg
END:VEVENT
BEGIN:VEVENT
DTSTART;TZID=America/New_York:20230825T000000
DTEND;TZID=America/New_York:20230828T000000
DTSTAMP:20260424T180248
CREATED:20230724T180904Z
LAST-MODIFIED:20230724T180904Z
UID:13256-1692921600-1693180800@www.easthamptoncityarts.com
SUMMARY:THIS LONG ARC: fiber sculptures by Terry Jenoure at ECA Gallery
DESCRIPTION:This exhibition speaks to themes of freedom from old patterns. Breaking from previous artistic approaches\, Terry Jenoure’s fiber sculptures are mostly unplanned shapes built almost exclusively with recycled cotton. During the artwalk on August 10\, two listening stations will be set up. These feature an experiment she made on my violin. Creating a notation system for herself\, she read the sculptures as musical “scores\,” translating their visual characteristics into music.  Sound engineer Warren Amerman then further sculpted the sounds digitally.
URL:https://www.easthamptoncityarts.com/event/this-long-arc-fiber-sculptures-by-terry-jenoure-at-eca-gallery/
LOCATION:ECA Gallery\, 43 Main Street\, Easthampton\, MA\, 01027\, United States
CATEGORIES:Art Walk,Easthampton City Arts Event
ATTACH;FMTTYPE=image/jpeg:https://www.easthamptoncityarts.com/wp-content/uploads/2023/07/6d3a6414.jpg
ORGANIZER;CN="CitySpace":MAILTO:info@cityspaceeasthampton.org
END:VEVENT
END:VCALENDAR