BEGIN:VCALENDAR
VERSION:2.0
PRODID:-//Easthampton City Arts - ECPv6.15.18//NONSGML v1.0//EN
CALSCALE:GREGORIAN
METHOD:PUBLISH
X-ORIGINAL-URL:https://www.easthamptoncityarts.com
X-WR-CALDESC:Events for Easthampton City Arts
REFRESH-INTERVAL;VALUE=DURATION:PT1H
X-Robots-Tag:noindex
X-PUBLISHED-TTL:PT1H
BEGIN:VTIMEZONE
TZID:America/New_York
BEGIN:DAYLIGHT
TZOFFSETFROM:-0500
TZOFFSETTO:-0400
TZNAME:EDT
DTSTART:20180311T070000
END:DAYLIGHT
BEGIN:STANDARD
TZOFFSETFROM:-0400
TZOFFSETTO:-0500
TZNAME:EST
DTSTART:20181104T060000
END:STANDARD
BEGIN:DAYLIGHT
TZOFFSETFROM:-0500
TZOFFSETTO:-0400
TZNAME:EDT
DTSTART:20190310T070000
END:DAYLIGHT
BEGIN:STANDARD
TZOFFSETFROM:-0400
TZOFFSETTO:-0500
TZNAME:EST
DTSTART:20191103T060000
END:STANDARD
BEGIN:DAYLIGHT
TZOFFSETFROM:-0500
TZOFFSETTO:-0400
TZNAME:EDT
DTSTART:20200308T070000
END:DAYLIGHT
BEGIN:STANDARD
TZOFFSETFROM:-0400
TZOFFSETTO:-0500
TZNAME:EST
DTSTART:20201101T060000
END:STANDARD
END:VTIMEZONE
BEGIN:VEVENT
DTSTART;TZID=America/New_York:20191106T120000
DTEND;TZID=America/New_York:20191106T150000
DTSTAMP:20260424T040248
CREATED:20191108T203746Z
LAST-MODIFIED:20191109T184542Z
UID:5907-1573041600-1573052400@www.easthamptoncityarts.com
SUMMARY:Pop Drop and Roll
DESCRIPTION:Pivot Media has put together a spectacular “pop art” show\, inspired by some of their favorite artists\, including Doc Edgerton and James Turrell.
URL:https://www.easthamptoncityarts.com/event/pop-drop-and-roll/
LOCATION:Crooked Stick Pops\, 116 Pleasant Street\, Ste 162\, Easthampton\, MA\, 01027\, United States
CATEGORIES:Art Walk
ATTACH;FMTTYPE=image/jpeg:https://www.easthamptoncityarts.com/wp-content/uploads/2019/11/20191102_103300.jpg
ORGANIZER;CN="Crooked Stick Pops":MAILTO:julie@crookedstickpops.com
END:VEVENT
BEGIN:VEVENT
DTSTART;TZID=America/New_York:20191106T133000
DTEND;TZID=America/New_York:20191106T150000
DTSTAMP:20260424T040248
CREATED:20191019T194105Z
LAST-MODIFIED:20191019T194105Z
UID:5871-1573047000-1573052400@www.easthamptoncityarts.com
SUMMARY:Comics and Chronic Illness with Grace Desmarais
DESCRIPTION:Author and artist Grace Desmarais is back! Grace will give background on her medical experience and then discuss her comic Spoons: a dairy on chronic illness\, Tubes: diaries from the hospital and her up-coming book Healing Year. She will then hold a Q&A. At the end\, attendees will have an opportunity to buy her mini comics and have them signed. \nArtist Bio:\nGrace Desmarais is a French-Canadian illustrator and cartoonist. She currently lives in Eastern Massachusetts and spends most of her time drawing. \nGrace primarily self-publishes auto-bio comic while also being involved in a variety of anthologies. Most of Grace’s work is rooted in subjects like art history\, dis/ability and personal experience. Her long-term goal is to be a published author/illustrator with a committed comics publisher. \nWhen Grace isn’t drawing she can be found playing Dungeons and Dragons or enjoying a craft beer.
URL:https://www.easthamptoncityarts.com/event/comics-and-chronic-illness-with-grace-desmarais/
LOCATION:Emily Williston Memorial Library\, 9 Park Street\, Easthampton\, MA\, 01027
ATTACH;FMTTYPE=image/png:https://www.easthamptoncityarts.com/wp-content/uploads/2019/10/comics-and-chronic-illness.png
END:VEVENT
BEGIN:VEVENT
DTSTART;TZID=America/New_York:20191109T090000
DTEND;TZID=America/New_York:20191109T110000
DTSTAMP:20260424T040248
CREATED:20191108T203720Z
LAST-MODIFIED:20191109T184504Z
UID:5905-1573290000-1573297200@www.easthamptoncityarts.com
SUMMARY:Janna Ugone & Co Second Saturday Open Studio
DESCRIPTION:Visit us this Saturday! Check out our lighting Showroom\, Outlet and LampBar. Find a new shade\, lamp or holiday gift!  Bring a lamp base of your own and find an exciting new shade to give it a make over. \n 
URL:https://www.easthamptoncityarts.com/event/janna-ugone-co-second-saturday-open-studio/
LOCATION:Cottage Street Studios\, 1 Cottage Street\, Easthampton\, MA\, 01027\, United States
CATEGORIES:Art Walk,Cottage Street Cultural District
ATTACH;FMTTYPE=image/jpeg:https://www.easthamptoncityarts.com/wp-content/uploads/2019/11/horizontal-group-photo-mid.jpg
ORGANIZER;CN="Cottage Street Studios":MAILTO:latimerglass2@gmail.com
END:VEVENT
BEGIN:VEVENT
DTSTART;TZID=America/New_York:20191109T120000
DTEND;TZID=America/New_York:20191109T150000
DTSTAMP:20260424T040248
CREATED:20191104T001225Z
LAST-MODIFIED:20191104T002153Z
UID:5892-1573300800-1573311600@www.easthamptoncityarts.com
SUMMARY:All Our People
DESCRIPTION:Please join us for an exhibition by amy dame and Ahalya Raman at MAP Space in Eastworks. \n“I am here to tell you that the photograph and quilt have a lot in common. Some of this material is straightforward\, but other parts are twisting. If you aren’t twisting then maybe you should try a twist. Dame’s quilts follow some tradition in form and function. As a tool of communication\, a traditional storytelling of the lives abstracted in Raman’s photographs. They are both using their hands to tell from history and present day. They’ve chosen from fragments of leftovers and visits with lovers. A smart device can snap one in a fragment of a second. Eventually the whole is stitched together. It takes hours. It takes days! It takes months. It can take years!\n\n\nThis is life and it’s gay and multidimensional. I should clarify that I am using the word gay interchangably with queer\, and I’m using the word queer interchangable with power. Forgive me but gayness has a ring to it. It feels like history and that makes it feel precious to me. The hankie quilt is exactly the texture of gayness. Just then Amy Dame reminds us there is more to unpack. But why put a box over the face? This feels more like queerness. We have overturned the bright symbolic colors in exchange for our ethereal glances; habitually opening apps\, the palm upturned”.\n\n\n— Exhibition Statement by Suz Evans\n\nBIOS:\n\namy dame combines art and craft to create pieces that express the experiences\, beliefs and political convictions that guide their life as a fat queer femme genderqueer person with invisible disabilities.\n\nAhalya Raman was born in India\, and currently lives in Western Massachusetts. She is interested in memory\, in what remains\, and looking back in order to look forward.
URL:https://www.easthamptoncityarts.com/event/all-our-people/
LOCATION:MAP Space\, 116 Pleasant Street\, Easthampton\, MA\, 01027\, United States
CATEGORIES:Art Walk
ATTACH;FMTTYPE=image/jpeg:https://www.easthamptoncityarts.com/wp-content/uploads/2019/11/all_our_people_-flyer-5x7.jpg
END:VEVENT
BEGIN:VEVENT
DTSTART;TZID=America/New_York:20191109T120000
DTEND;TZID=America/New_York:20191109T150000
DTSTAMP:20260424T040248
CREATED:20191104T001239Z
LAST-MODIFIED:20191104T001239Z
UID:5894-1573300800-1573311600@www.easthamptoncityarts.com
SUMMARY:Zea Mays at ECA
DESCRIPTION:This gallery exhibition is a group show of artists working at Zea Mays printmaking studio in Northampton\, MA. \n*Image by Nancy Haver
URL:https://www.easthamptoncityarts.com/event/zea-mays-at-eca/
LOCATION:ECA Gallery\, 43 Main Street\, Easthampton\, MA\, 01027\, United States
CATEGORIES:Art Walk
ATTACH;FMTTYPE=image/jpeg:https://www.easthamptoncityarts.com/wp-content/uploads/2019/11/72230588_10156139156882242_1607812769510326272_o.jpg
END:VEVENT
BEGIN:VEVENT
DTSTART;TZID=America/New_York:20191109T120000
DTEND;TZID=America/New_York:20191109T150000
DTSTAMP:20260424T040248
CREATED:20191108T204027Z
LAST-MODIFIED:20191108T204027Z
UID:5919-1573300800-1573311600@www.easthamptoncityarts.com
SUMMARY:Chapters
DESCRIPTION:“Chapters”\n\nIntaglio Etchings and drypoint & monotype prints by\n\nOlwen Oherlihy Dowling\n\n\nNovember 9 – December 7\nArtist Reception\non Saturday November 9\, 5-8pm\n\n\n“My prints and paintings are personal and are placed where I have a close relationships such as The Berkshires and Ireland”.\n\n\nOwen Dowling emigrated with her family to the United States from Ireland as a child. She grew up in Malibu California. Her primary inspirations in art are Mary Cassatt\, Richard Diebenkorn\, Turner\, and Winslow Homer.\n\nBesides her etchings\, Olwen also paints images in oil and watercolor of the West of Ireland as well as North Chester where she lives in the Berkshire mountains.
URL:https://www.easthamptoncityarts.com/event/chapters/
LOCATION:Elusie Gallery at Big Red Frame\, 43 Main Street\, Easthampton\, MA\, 01027\, United States
CATEGORIES:Art Walk
ATTACH;FMTTYPE=image/jpeg:https://www.easthamptoncityarts.com/wp-content/uploads/2019/11/vin-walking.jpg
END:VEVENT
BEGIN:VEVENT
DTSTART;TZID=America/New_York:20191109T120000
DTEND;TZID=America/New_York:20191109T150000
DTSTAMP:20260424T040248
CREATED:20191109T184931Z
LAST-MODIFIED:20191109T184931Z
UID:5933-1573300800-1573311600@www.easthamptoncityarts.com
SUMMARY:Into the Light
DESCRIPTION:This Art Walk at LOCAL we continue our beautiful exhibit with the spectacular art of 3 amazing local artists. \nGrounded in a love of the natural world\, the work of Amanda Quinby\, Catherine Gibbs and Adell Donaghue explores Light as the subject. Using a variety of materials\, including gilded surfaces\, oil on canvas\, and graphite and ink on paper\, these artists offer a panoply of interpretations of both the idea and phenomenon of Light. For each of these artists\, the exploration of Light is the primary subject. \nOil painter Gibbs describes her paintings as a way of “becoming attentive to the splendid drama of the everyday world.” Gilder and photographer Quinby notes her “ongoing fascination with the mercurial role of light and its influence on how we see the world.” Painter and printmaker Donaghue describes the “transformation of physical materials into light as a deeply spiritual experience.” \nPlease join us!
URL:https://www.easthamptoncityarts.com/event/into-the-light/
LOCATION:LOCAL by Cider House\, 40 Cottage Street\, Easthampton\, MA\, 01027\, United States
CATEGORIES:Art Walk
ATTACH;FMTTYPE=image/png:https://www.easthamptoncityarts.com/wp-content/uploads/2019/11/screen-shot-2019-11-09-at-8.47.06-am.png
END:VEVENT
BEGIN:VEVENT
DTSTART;TZID=America/New_York:20191109T120000
DTEND;TZID=America/New_York:20191109T160000
DTSTAMP:20260424T040248
CREATED:20191030T210508Z
LAST-MODIFIED:20191030T210508Z
UID:5885-1573300800-1573315200@www.easthamptoncityarts.com
SUMMARY:West Springfield High School Photo Show!
DESCRIPTION:West Springfield High School photography students captured the beauty of their surroundings in a backyard shooting assignment.  They were asked to look beyond ‘things’ and find shapes\, textures\, lines\, contrast\, etc. that had been previously overlooked. The result are these thoughtful black and white images that offer a glimpse into their world.
URL:https://www.easthamptoncityarts.com/event/west-springfield-high-school-photo-show/
LOCATION:Mt. Tom’s Homemade Ice Cream\, 34 Cottage Street\, Easthampton\, MA\, 01027\, United States
CATEGORIES:Art Walk
ATTACH;FMTTYPE=image/jpeg:https://www.easthamptoncityarts.com/wp-content/uploads/2019/10/cheyanneleclair.jpg
END:VEVENT
BEGIN:VEVENT
DTSTART;TZID=America/New_York:20191109T123000
DTEND;TZID=America/New_York:20191109T153000
DTSTAMP:20260424T040248
CREATED:20191109T184611Z
LAST-MODIFIED:20191109T184611Z
UID:5927-1573302600-1573313400@www.easthamptoncityarts.com
SUMMARY:Music\, munchies\, art sale on sidewalk\,
DESCRIPTION:Outside: 50% off all art on the sidewalk.\nInside: music\, munchies\, books\, & more. \n5:30 – 7 p.m. Music from Lonnie and Dave Chu \nCome on by!
URL:https://www.easthamptoncityarts.com/event/music-munchies-art-sale-on-sidewalk/
LOCATION:Book Moon\, 86 Cottage Street\, EASTHAMPTON\, MA\, 01027\, United States
CATEGORIES:Art Walk
ATTACH;FMTTYPE=image/jpeg:https://www.easthamptoncityarts.com/wp-content/uploads/2019/11/bookmoon-logo-round-300-2x2.jpg
ORGANIZER;CN="Book Moon":MAILTO:info@bookmoonbooks.com
END:VEVENT
BEGIN:VEVENT
DTSTART;TZID=America/New_York:20191109T130000
DTEND;TZID=America/New_York:20191109T160000
DTSTAMP:20260424T040248
CREATED:20191108T203849Z
LAST-MODIFIED:20191108T203849Z
UID:5911-1573304400-1573315200@www.easthamptoncityarts.com
SUMMARY:Street Art From Montreal to Miami
DESCRIPTION:Reception Invitation to Photographer Richard Bulda’s bright\, colorful and BIG show.  Richard Bulda captures images that rock with a sense of happening. This exhibit showcases his travels to Montreal for the Under Pressure Annual Montreal Graffiti Festival\, to Wynwood district in Miami during Art Basel\, which featured hundreds of street artist working on their walls\, and to Fresh Paint Springfield annual Mural Festival. Richard started photography using a film camera back in the day. His first memorable foray in digital was with the Christo’s Gate project in Central Park\, NYC. Richard was hooked then. He enjoys rubbing elbows with highly creative people wherever he travels. He often visits Miami\, Manhattan\, Montreal\, Atlantic City and Brooklyn. He will exhibit his Street Art from Montreal to Miami project in Mill 180 Park Nov 9 – Jan 5.
URL:https://www.easthamptoncityarts.com/event/street-art-from-montreal-to-miami/
LOCATION:Mill 180 Park\, 180 Pleasant St #217\, Easthampton\, MA\, United States
CATEGORIES:Art Walk
ATTACH;FMTTYPE=image/jpeg:https://www.easthamptoncityarts.com/wp-content/uploads/2019/11/richard-bulda-miami-2.jpg
ORGANIZER;CN="Susanna White":MAILTO:art@susannawhite.com
END:VEVENT
BEGIN:VEVENT
DTSTART;TZID=America/New_York:20191109T130000
DTEND;TZID=America/New_York:20191109T160000
DTSTAMP:20260424T040248
CREATED:20191109T211011Z
LAST-MODIFIED:20191109T211011Z
UID:5936-1573304400-1573315200@www.easthamptoncityarts.com
SUMMARY:Year Sixteen
DESCRIPTION:“YEAR SIXTEEN”\nis\nthe newest showing of paintings by\nLuke J. Cavagnac\nat\nTHE INVISIBLE FOUNTAIN\n116 Pleasant Street Suite #206\nEastworks Building\nEasthampton MA 01027\n413.896.8073\ninvisiblefountain.com\ngallery open: Monday – Friday + sometimes on the weekend \nPlease come to the Opening/Party:\nSATURDAY\, NOVEMBER 9th\, 2019\nfrom 6 to 9 p.m. \n1+1=2 windows\n2+2=4 walls\n4+4=8 some cheese with that wine\n8+8=16 years of the Invisible Fountain!\nPlease come help celebrate whatever has been going on here for the past sixteen years. \nThe Invisible Fountain is where Cavagnac paints and displays his “Art”.\nHundreds and hundreds of different paintings on display everyday. \nART FOR ALL & ALL FOR ART \n*shop online at invisiblefountain.etsy.com
URL:https://www.easthamptoncityarts.com/event/year-sixteen/
LOCATION:The Invisible Fountain\, 116 Pleasant St\,\, Easthampton\, MA\, 01027\, United States
CATEGORIES:Art Walk
ATTACH;FMTTYPE=image/jpeg:https://www.easthamptoncityarts.com/wp-content/uploads/2019/11/yearsixteenpostcard.jpg
END:VEVENT
BEGIN:VEVENT
DTSTART;TZID=America/New_York:20191110T130000
DTEND;TZID=America/New_York:20191110T150000
DTSTAMP:20260424T040248
CREATED:20191109T183630Z
LAST-MODIFIED:20191109T183630Z
UID:5925-1573390800-1573398000@www.easthamptoncityarts.com
SUMMARY:Heros and Supervillains
DESCRIPTION:Your Comixmongers are VERY excited to announce that November’s Creator event tying in with Easthampton’s monthly Art Walk will be featuring the talents of local six year old Welcome Rider Hersey! He has been drawing heroes and villains for a couple years now\, and has a large amount of works to show everyone!
URL:https://www.easthamptoncityarts.com/event/heros-and-supervillains/
LOCATION:comics n’more\, 64 Cottage st\, Easthampton\, MA\, 01027\, United States
CATEGORIES:All Ages,Art Walk,Cottage Street Cultural District,Easthampton City Arts Event,Easthampton Cultural Council,Easthampton Events,Kid-Friendly,Public Art
ATTACH;FMTTYPE=image/jpeg:https://www.easthamptoncityarts.com/wp-content/uploads/2019/11/74674396_431108504498164_3974866750683480064_n-2.jpg
ORGANIZER;CN="comics n'more":MAILTO:Comicsnmoreeast@gmail.com
END:VEVENT
BEGIN:VEVENT
DTSTART;TZID=America/New_York:20191119T030000
DTEND;TZID=America/New_York:20191119T120000
DTSTAMP:20260424T040248
CREATED:20191120T041409Z
LAST-MODIFIED:20191120T041409Z
UID:5951-1574132400-1574164800@www.easthamptoncityarts.com
SUMMARY:Embroidery Workshop
DESCRIPTION:Come learn the basics of embroidery and be inspired to take it further. \nSpace is limited\, pre-registration is required. More info to come\, stay tuned!
URL:https://www.easthamptoncityarts.com/event/embroidery-workshop/
LOCATION:MAP Space\, 116 Pleasant Street\, Easthampton\, MA\, 01027\, United States
CATEGORIES:Classes & Workshops
ATTACH;FMTTYPE=image/jpeg:https://www.easthamptoncityarts.com/wp-content/uploads/2019/11/77077486_10156486586101366_5754549684584579072_o.jpg
END:VEVENT
BEGIN:VEVENT
DTSTART;TZID=America/New_York:20191119T030000
DTEND;TZID=America/New_York:20191119T120000
DTSTAMP:20260424T040248
CREATED:20191120T041619Z
LAST-MODIFIED:20191120T041619Z
UID:5954-1574132400-1574164800@www.easthamptoncityarts.com
SUMMARY:Poetry & Embroidery Workshop
DESCRIPTION:Poetry & Embroidery workshop with Easthampton Poet Laureate María José Giménez and amy dame. \nSpace is limited\, pre-registration required.\nMore info to come\, stay tuned!
URL:https://www.easthamptoncityarts.com/event/poetry-embroidery-workshop/
LOCATION:MAP Space\, 116 Pleasant Street\, Easthampton\, MA\, 01027\, United States
CATEGORIES:Classes & Workshops
ATTACH;FMTTYPE=image/jpeg:https://www.easthamptoncityarts.com/wp-content/uploads/2019/11/76175670_10156486583746366_5225548243592544256_o.jpg
END:VEVENT
BEGIN:VEVENT
DTSTART;TZID=America/New_York:20191122T123000
DTEND;TZID=America/New_York:20191122T163000
DTSTAMP:20260424T040248
CREATED:20191120T225341Z
LAST-MODIFIED:20191120T225341Z
UID:5973-1574425800-1574440200@www.easthamptoncityarts.com
SUMMARY:Art Show Reception & On-the-Spot Sketching
DESCRIPTION:Art Show Reception with On-the-Spot Sketching from 7 – 8 p.m. \nSketches Available for Purchase by acclaimed visiting Australian artist & illustrator Kathleen Jennings. Art exhibit with original illustrations for books by Holly Black\, Cassandra Clare\, Kij Johnson\, Margo Lanagan\, and more.
URL:https://www.easthamptoncityarts.com/event/art-show-reception-on-the-spot-sketching/
LOCATION:Book Moon\, 86 Cottage Street\, EASTHAMPTON\, MA\, 01027\, United States
CATEGORIES:Public Art
ATTACH;FMTTYPE=image/png:https://www.easthamptoncityarts.com/wp-content/uploads/2019/11/sketching.png
ORGANIZER;CN="Book Moon":MAILTO:info@bookmoonbooks.com
END:VEVENT
END:VCALENDAR