BEGIN:VCALENDAR
VERSION:2.0
PRODID:-//Easthampton City Arts - ECPv6.15.18//NONSGML v1.0//EN
CALSCALE:GREGORIAN
METHOD:PUBLISH
X-ORIGINAL-URL:https://www.easthamptoncityarts.com
X-WR-CALDESC:Events for Easthampton City Arts
REFRESH-INTERVAL;VALUE=DURATION:PT1H
X-Robots-Tag:noindex
X-PUBLISHED-TTL:PT1H
BEGIN:VTIMEZONE
TZID:America/New_York
BEGIN:DAYLIGHT
TZOFFSETFROM:-0500
TZOFFSETTO:-0400
TZNAME:EDT
DTSTART:20250309T070000
END:DAYLIGHT
BEGIN:STANDARD
TZOFFSETFROM:-0400
TZOFFSETTO:-0500
TZNAME:EST
DTSTART:20251102T060000
END:STANDARD
BEGIN:DAYLIGHT
TZOFFSETFROM:-0500
TZOFFSETTO:-0400
TZNAME:EDT
DTSTART:20260308T070000
END:DAYLIGHT
BEGIN:STANDARD
TZOFFSETFROM:-0400
TZOFFSETTO:-0500
TZNAME:EST
DTSTART:20261101T060000
END:STANDARD
BEGIN:DAYLIGHT
TZOFFSETFROM:-0500
TZOFFSETTO:-0400
TZNAME:EDT
DTSTART:20270314T070000
END:DAYLIGHT
BEGIN:STANDARD
TZOFFSETFROM:-0400
TZOFFSETTO:-0500
TZNAME:EST
DTSTART:20271107T060000
END:STANDARD
END:VTIMEZONE
BEGIN:VEVENT
DTSTART;TZID=America/New_York:20260330T160000
DTEND;TZID=America/New_York:20260831T190000
DTSTAMP:20260423T181416
CREATED:20260330T140927Z
LAST-MODIFIED:20260422T164302Z
UID:24498-1774886400-1788202800@www.easthamptoncityarts.com
SUMMARY:Richard Neal mixed media
DESCRIPTION:While many of you have enjoyed ‘Barbie Turns 50’ in the window of 84 And A Half \, we’d love to invite you to come out and enjoy some other large mixed media works by Richard Neal! ( No\, not that Richie 😉 ) Neal’s a graduate of Canbrook Academy of Art \, and was recently the subject of a one-person exhibit at the Provincetown Art Museum.
URL:https://www.easthamptoncityarts.com/event/richard-neal-mixed-media/
LOCATION:84 And A Half\, 84 1/2 Cottage St\, Easthampton\, MA\, 01027
END:VEVENT
END:VCALENDAR