BEGIN:VCALENDAR
VERSION:2.0
PRODID:-//Easthampton City Arts - ECPv6.15.18//NONSGML v1.0//EN
CALSCALE:GREGORIAN
METHOD:PUBLISH
X-ORIGINAL-URL:https://www.easthamptoncityarts.com
X-WR-CALDESC:Events for Easthampton City Arts
REFRESH-INTERVAL;VALUE=DURATION:PT1H
X-Robots-Tag:noindex
X-PUBLISHED-TTL:PT1H
BEGIN:VTIMEZONE
TZID:America/New_York
BEGIN:DAYLIGHT
TZOFFSETFROM:-0500
TZOFFSETTO:-0400
TZNAME:EDT
DTSTART:20250309T070000
END:DAYLIGHT
BEGIN:STANDARD
TZOFFSETFROM:-0400
TZOFFSETTO:-0500
TZNAME:EST
DTSTART:20251102T060000
END:STANDARD
BEGIN:DAYLIGHT
TZOFFSETFROM:-0500
TZOFFSETTO:-0400
TZNAME:EDT
DTSTART:20260308T070000
END:DAYLIGHT
BEGIN:STANDARD
TZOFFSETFROM:-0400
TZOFFSETTO:-0500
TZNAME:EST
DTSTART:20261101T060000
END:STANDARD
BEGIN:DAYLIGHT
TZOFFSETFROM:-0500
TZOFFSETTO:-0400
TZNAME:EDT
DTSTART:20270314T070000
END:DAYLIGHT
BEGIN:STANDARD
TZOFFSETFROM:-0400
TZOFFSETTO:-0500
TZNAME:EST
DTSTART:20271107T060000
END:STANDARD
END:VTIMEZONE
BEGIN:VEVENT
DTSTART;TZID=America/New_York:20260415T120000
DTEND;TZID=America/New_York:20260524T170000
DTSTAMP:20260421T104444
CREATED:20260415T120909Z
LAST-MODIFIED:20260415T120909Z
UID:24854-1776254400-1779642000@www.easthamptoncityarts.com
SUMMARY:TRICENNIUM-5 American University MFA Grads 30 Years Later
DESCRIPTION:Artists David Schell\, Cyndy Sperry\, Joanna Dunn\, Bonnie Ashmore\, and Jason Travers hang together at the Oxbow Gallery celebrating a collective 150+ years of making art since graduating from American University’s MFA in Painting Program.  The Opening for this event will be during the First Saturday Art Walk from 4-7PM.
URL:https://www.easthamptoncityarts.com/event/tricennium-5-american-university-mfa-grads-30-years-later/
LOCATION:Oxbow Gallery\, 273 Pleasant St\, Northampton\, MA\, 01060\, United States
CATEGORIES:Art Walk
ATTACH;FMTTYPE=image/jpeg:https://www.easthamptoncityarts.com/wp-content/uploads/2026/04/your-paragraph-text-1.jpg
END:VEVENT
BEGIN:VEVENT
DTSTART;TZID=America/New_York:20260501T080000
DTEND;TZID=America/New_York:20260531T210000
DTSTAMP:20260421T104444
CREATED:20260329T123825Z
LAST-MODIFIED:20260329T123825Z
UID:24437-1777622400-1780261200@www.easthamptoncityarts.com
SUMMARY:Art by Scott Krawczyk
DESCRIPTION:Scott is an artist based in Easthampton\, Massachusetts\, where he was born\, raised\, and still lives today. His work focuses on New England landscapes\, lighthouses\, beaches\, and still life paintings. Drawing inspiration from the region’s coastline and everyday surroundings\, his paintings capture the light\, color\, and character of the places that have shaped his life.
URL:https://www.easthamptoncityarts.com/event/art-by-scott-krawczyk/
LOCATION:Mt. Tom’s Homemade Ice Cream\, 34 Cottage Street\, Easthampton\, MA\, 01027\, United States
CATEGORIES:Art Walk
ATTACH;FMTTYPE=image/jpeg:https://www.easthamptoncityarts.com/wp-content/uploads/2026/03/framed_barn_capecod1-amber-modified-1-scaled.jpg
END:VEVENT
BEGIN:VEVENT
DTSTART;VALUE=DATE:20260503
DTEND;VALUE=DATE:20260706
DTSTAMP:20260421T104444
CREATED:20260411T183239Z
LAST-MODIFIED:20260411T183239Z
UID:24728-1777766400-1783295999@www.easthamptoncityarts.com
SUMMARY:The Art of Amy Kotel at Dry Humor
DESCRIPTION:Amy Dawn Kotel is a multidisciplinary artist whose creative path spans dance\, puppetry\, education\, and fitness\, all of which inform her vibrant fine art practice. After years working in movement-based and community-centered arts\, she returned to visual art as a primary outlet\, using drawing\, painting\, collage\, and upcycled fabric sculpture to explore her inner world. Her work is characterized by bold color\, dynamic movement\, and intricate compositions built from small shapes that form larger images. Blending elements of nature\, abstraction\, and surrealism\, Kotel’s pieces often oscillate between expressing emotional depth and imagining beauty\, inviting viewers into a space that is at once playful\, heartfelt\, and introspective.
URL:https://www.easthamptoncityarts.com/event/the-art-of-amy-kotel-at-dry-humor/
LOCATION:Dry Humor\, 79 Union Street\, Easthampton\, 01027\, United States
CATEGORIES:Art Walk
ATTACH;FMTTYPE=image/png:https://www.easthamptoncityarts.com/wp-content/uploads/2026/04/ak-art-collage.png
ORGANIZER;CN="Dry Humor":MAILTO:info@dryhumor-shop.com
END:VEVENT
BEGIN:VEVENT
DTSTART;TZID=America/New_York:20260531T123000
DTEND;TZID=America/New_York:20260531T160000
DTSTAMP:20260421T104444
CREATED:20260409T194958Z
LAST-MODIFIED:20260409T194958Z
UID:24696-1780230600-1780243200@www.easthamptoncityarts.com
SUMMARY:Two Years of Magic
DESCRIPTION:Join us as we celebrate two years of Dreki Soul with an interactive afternoon of play\, creativity\, healing\, and connection. This gathering is our gift to the community – a space to come together in joy\, presence\, and gratitude for all that has been built over the past two years. \n  \nFree Admission (Services & Creations have a fee per person) \n  \nThis is a hands-on\, experiential community gathering where you can choose how you’d like to participate: through games and laughter\, creative craft stations\, or receiving healing and practitioner offerings. \n  \nThe studio will be divided into three flowing spaces: \n🎲 Games \n🎨 Creation Stations \nHands-on creative stations where you can make something meaningful to take home\, such as intention-based crafts\, art\, and small ritual creations. \n🔮 Healing Services \nA quieter\, sacred space offering mini healing sessions including Reiki\, sound healing\, intuitive card pulls\, somatic practices\, and other practitioner-led experiences. \nThroughout the day\, you are free to move between spaces at your own pace — play\, create\, receive\, or simply rest and connect. \n  \nWe will begin and end with short community circles to honor the journey of Dreki Soul\, share gratitude\, and set intentions for the year ahead. \n  \nThis event is about celebrating community\, embodiment\, and the magic we create together. \n  \nCome as you are. \nStay as long as you like. \nParticipate in whatever calls to you. \n  \n✨ Two years of magic — and many more to come. ✨
URL:https://www.easthamptoncityarts.com/event/two-years-of-magic/
LOCATION:MA
CATEGORIES:Easthampton Events
END:VEVENT
BEGIN:VEVENT
DTSTART;TZID=America/New_York:20260606T180000
DTEND;TZID=America/New_York:20260606T190000
DTSTAMP:20260421T104444
CREATED:20260413T174117Z
LAST-MODIFIED:20260413T174117Z
UID:24768-1780768800-1780772400@www.easthamptoncityarts.com
SUMMARY:The many faces of Jesus: an Artist Perspective
DESCRIPTION:Jesus features heavily in much of art history but image varies widely. What are the hidden meaning behind the pictures. Come explore an artist’s perspective on the image and meaning behind the representation of Jesus. Learn the gossip behind the paintings\, the tension between creator and a guide on how to look at paintings.  Talk given by award winning artist Melissa Stratton Pandina.
URL:https://www.easthamptoncityarts.com/event/the-many-faces-of-jesus-an-artist-perspective/
LOCATION:Easthampton ConregationalCHurch\, 112 Main St\, Easthampton\, MA\, 01581\, United States
CATEGORIES:Art Walk
ATTACH;FMTTYPE=image/jpeg:https://www.easthamptoncityarts.com/wp-content/uploads/2026/04/the-many-faces-of-jesus-2.jpg
ORGANIZER;CN="Easthampton CongregationalChurch":MAILTO:deshria@gmail.com
END:VEVENT
BEGIN:VEVENT
DTSTART;TZID=America/New_York:20260625T090000
DTEND;TZID=America/New_York:20260627T203000
DTSTAMP:20260421T104444
CREATED:20260118T123139Z
LAST-MODIFIED:20260118T123139Z
UID:22910-1782378000-1782592200@www.easthamptoncityarts.com
SUMMARY:Strings Without Boundaries
DESCRIPTION:Strings Without Boundaries will celebrate our 30th season this year from June 25th to the 27th at Williston Northampton School in Easthampton\, Massachusetts. \nWe were one of the earliest summer programs to provide bowed string players with an exploration into fiddle and contemporary styles from around the globe. And\, we’ve expanded our events in 2026. \nThis year\, our faculty—as always— consists of world-class players who are also highly skilled educators. \nAnd we’re going to offer deep dives into traditional and contemporary techniques\, tunes\, improvisation\, and amplification for both youth and adults\, ages 14 on up. Adults can stay in the dorms. Registrants consist of locals as well as players from around the country. Make new music friends in our warm community setting on a beautiful campus. \nEarly-bird registration is open. Please visit our website www.stringswithoutboundaries.com for all the juicy details. Single-day as well as full registration is available.
URL:https://www.easthamptoncityarts.com/event/strings-without-boundaries/
LOCATION:MA
END:VEVENT
END:VCALENDAR