BEGIN:VCALENDAR
VERSION:2.0
PRODID:-//Easthampton City Arts - ECPv6.15.18//NONSGML v1.0//EN
CALSCALE:GREGORIAN
METHOD:PUBLISH
X-WR-CALNAME:Easthampton City Arts
X-ORIGINAL-URL:https://www.easthamptoncityarts.com
X-WR-CALDESC:Events for Easthampton City Arts
REFRESH-INTERVAL;VALUE=DURATION:PT1H
X-Robots-Tag:noindex
X-PUBLISHED-TTL:PT1H
BEGIN:VTIMEZONE
TZID:America/New_York
BEGIN:DAYLIGHT
TZOFFSETFROM:-0500
TZOFFSETTO:-0400
TZNAME:EDT
DTSTART:20240310T070000
END:DAYLIGHT
BEGIN:STANDARD
TZOFFSETFROM:-0400
TZOFFSETTO:-0500
TZNAME:EST
DTSTART:20241103T060000
END:STANDARD
BEGIN:DAYLIGHT
TZOFFSETFROM:-0500
TZOFFSETTO:-0400
TZNAME:EDT
DTSTART:20250309T070000
END:DAYLIGHT
BEGIN:STANDARD
TZOFFSETFROM:-0400
TZOFFSETTO:-0500
TZNAME:EST
DTSTART:20251102T060000
END:STANDARD
BEGIN:DAYLIGHT
TZOFFSETFROM:-0500
TZOFFSETTO:-0400
TZNAME:EDT
DTSTART:20260308T070000
END:DAYLIGHT
BEGIN:STANDARD
TZOFFSETFROM:-0400
TZOFFSETTO:-0500
TZNAME:EST
DTSTART:20261101T060000
END:STANDARD
BEGIN:DAYLIGHT
TZOFFSETFROM:-0500
TZOFFSETTO:-0400
TZNAME:EDT
DTSTART:20270314T070000
END:DAYLIGHT
BEGIN:STANDARD
TZOFFSETFROM:-0400
TZOFFSETTO:-0500
TZNAME:EST
DTSTART:20271107T060000
END:STANDARD
END:VTIMEZONE
BEGIN:VEVENT
DTSTART;VALUE=DATE:20251004
DTEND;VALUE=DATE:20251229
DTSTAMP:20260422T183048
CREATED:20250929T152539Z
LAST-MODIFIED:20250929T152539Z
UID:21278-1759536000-1766966399@www.easthamptoncityarts.com
SUMMARY:Vivian Bresnitz Photography
DESCRIPTION:Vivian is a graduate of NYC’s School of Visual Arts (class of 1982) with a BFA in Photography. Her work has been exhibited in New York\, Rhode Island and Massachusetts. After college\, she worked in professional photo labs in NY and RI. In 1991\, she shifted gears\, moving to western MA to become a Massage\, Polarity and Neuromuscular Therapist\, taking a hiatus from photography. \nIn 2014\, a friend reignited Vivian’s phot passion with a gift: his retired pro DSLR camera. She assisted him and other professional photographers at weddings and events\, eventually going out on her own\, building a portfolio\, including high school seniors\, family portraits and professional headshots\, all while remaining a full-time massage therapist. \nWhile the 2020 pandemic slowed the event work\, it opened time for long walks in the neighborhood\, the woods and beyond. Always with a camera\, isolation and “getting out” made everything seem fresh. Observing the spatial layout\, the color\, shapes\, textures\, the vastness…seeing the ‘stories.’ She’s always trying to bring these visions “home” to the viewer\, to experience or urge them to see for themselves. \nWebsite: vivianbphotography.com \nEmail: vivianbresnitz@gmail.com
URL:https://www.easthamptoncityarts.com/event/vivian-bresnitz-photography/
LOCATION:Dry Humor\, 79 Union Street\, Easthampton\, 01027\, United States
CATEGORIES:Art Walk
ATTACH;FMTTYPE=image/jpeg:https://www.easthamptoncityarts.com/wp-content/uploads/2025/09/untitled-design.jpg
ORGANIZER;CN="Dry Humor":MAILTO:info@dryhumor-shop.com
END:VEVENT
BEGIN:VEVENT
DTSTART;VALUE=DATE:20251129
DTEND;VALUE=DATE:20251228
DTSTAMP:20260422T183048
CREATED:20251124T135756Z
LAST-MODIFIED:20251124T135756Z
UID:22174-1764374400-1766879999@www.easthamptoncityarts.com
SUMMARY:Art is a Gift
DESCRIPTION:Thirty + Art Makers in both galleries of Easthampton’s Old Town Hall. Jewelry / Ceramics/ Fine Art / wearable / Prints & cards / reclaimed art and accessories / metal work / wood work / and much more.\nArt is a Gift open  November 29 on Small Business Saturday\, when EVERYTHING will be 20% off.
URL:https://www.easthamptoncityarts.com/event/art-is-a-gift-5/
LOCATION:Elusie Gallery at Big Red Frame\, 43 Main Street\, Easthampton\, MA\, 01027\, United States
CATEGORIES:Art Walk
ATTACH;FMTTYPE=image/jpeg:https://www.easthamptoncityarts.com/wp-content/uploads/2025/11/aig_2025-update-copy.jpg
END:VEVENT
BEGIN:VEVENT
DTSTART;TZID=America/New_York:20251201T080000
DTEND;TZID=America/New_York:20251231T210000
DTSTAMP:20260422T183048
CREATED:20251107T172130Z
LAST-MODIFIED:20251107T172130Z
UID:21948-1764576000-1767214800@www.easthamptoncityarts.com
SUMMARY:Paintings & Photos by the Mt Tom's Team
DESCRIPTION:Stop by for Artwalk or anytime in December to see paintings by our esteemed cake artist\, Natasha\, & a few of Jim’s (not Tom) favorite images.  We may even have a few pieces from other Mt Tom’s Artwalk artists & our crew!
URL:https://www.easthamptoncityarts.com/event/paintings-photos-by-the-mt-toms-team/
LOCATION:Mt. Tom’s Homemade Ice Cream\, 34 Cottage Street\, Easthampton\, MA\, 01027\, United States
CATEGORIES:Art Walk
ATTACH;FMTTYPE=image/jpeg:https://www.easthamptoncityarts.com/wp-content/uploads/2025/11/img_0273.jpeg
END:VEVENT
BEGIN:VEVENT
DTSTART;TZID=America/New_York:20251204T080000
DTEND;TZID=America/New_York:20260104T170000
DTSTAMP:20260422T183048
CREATED:20251125T211001Z
LAST-MODIFIED:20251125T211001Z
UID:22333-1764835200-1767546000@www.easthamptoncityarts.com
SUMMARY:"Landscapes from Home" by Ron Michaud in Oxbow's Front Gallery
DESCRIPTION:Ron Michaud writes about his work in Oxbow’s upcoming front gallery show: “As the title suggests\, the paintings in this exhibition are inspired by the place that is my home. I have lived and worked in Western Massachusetts nearly all my adult life. I know it well. It is truly home to me. So\, it seems perfectly natural that as a visual artist\, a painter\, I would take as a part of my identity\, the places that I see on a daily basis; places that I have been seeing and interacting with for many years; places that I have returned to often at different times of the day or the season; places that I have found particularly visually intriguing. My years in academia provided an opportunity to engage in inquiry\, exploration and research related to color and vision. My early work consisted of geometric abstract paintings and drawings directly related to those early inquiries. For some twenty or so years now\, I have taken this evolving fascination with color and vision and sought to answer many questions raised in my own mind about its role in the interpretation of the physical world I have come to know. This brought me to some of the places and images most closely associated with that sense of home. The paintings in this exhibition are examples of my continuing fascination with color and vision. The landscapes that I selected evoke for me a personal sense of “home” while at the same time provide a convenient vehicle for demonstrating some of the ways that color and vision help me to interpret\, negotiate and understand the physical world of my everyday life.” \nStop by Oxbow Gallery on December 6th from 4-7pm during the Easthampton City Art Walk to view the works of art and meet the artist!
URL:https://www.easthamptoncityarts.com/event/landscapes-from-home-by-ron-michaud-in-oxbows-front-gallery/
LOCATION:Oxbow Gallery\, 273 Pleasant St\, Northampton\, MA\, 01060\, United States
CATEGORIES:Art Walk,Cottage Street Cultural District,Easthampton City Arts Event,Public Art
ATTACH;FMTTYPE=image/jpeg:https://www.easthamptoncityarts.com/wp-content/uploads/2025/11/exhibition-announcement-december-2025.jpg
ORGANIZER;CN="Oxbow Gallery":MAILTO:theoxbowgallery@gmail.com
END:VEVENT
BEGIN:VEVENT
DTSTART;TZID=America/New_York:20251204T080000
DTEND;TZID=America/New_York:20260104T170000
DTSTAMP:20260422T183048
CREATED:20251125T211028Z
LAST-MODIFIED:20251125T211028Z
UID:22328-1764835200-1767546000@www.easthamptoncityarts.com
SUMMARY:Winter Blue - Group Show at Oxbow Gallery
DESCRIPTION:This December\, Oxbow’s back gallery will be exhibiting “Winter Blue” \, a group show with small works by 23 member-artists. The show’s title evokes frosty twilight and clear chilly dawns and the work in this exhibit interprets this theme with creative and playful abandon. This group show by gallery members includes a wide variety of styles and media\, all in smaller sizes priced for holiday giving. \nStop by Oxbow Gallery on Saturday\, December 6th from 4-7pm during Easthampton City Art Walk to view the works of art and meet some of the artists!
URL:https://www.easthamptoncityarts.com/event/winter-blue-group-show-at-oxbow-gallery/
LOCATION:Oxbow Gallery\, 273 Pleasant St\, Northampton\, MA\, 01060\, United States
CATEGORIES:Art Walk,Cottage Street Cultural District,Easthampton City Arts Event,Public Art
ATTACH;FMTTYPE=image/jpeg:https://www.easthamptoncityarts.com/wp-content/uploads/2025/11/e-postcard-winter-blue_1200px.jpg
ORGANIZER;CN="Oxbow Gallery":MAILTO:theoxbowgallery@gmail.com
END:VEVENT
BEGIN:VEVENT
DTSTART;VALUE=DATE:20251205
DTEND;VALUE=DATE:20260101
DTSTAMP:20260422T183048
CREATED:20251124T181814Z
LAST-MODIFIED:20251124T181858Z
UID:22292-1764892800-1767225599@www.easthamptoncityarts.com
SUMMARY:ECA Gallery Presents: Kristi W. Colbert
DESCRIPTION:“From the Pieces” is a rotating exhibition of painted paper collage landscapes by Kristi W. Colbert\, a Leverett-based mixed media artist inspired by country life in Western Massachusetts\, as well as travels and wanderlust beyond. Composed of snippets from the recycle bin and bits of junk mail painted with gouache\, colored pencil\, and neocolor crayon\, Kristi’s work explores and evokes a palpable sense of place\, as transportive landscapes\, seascapes\, and cityscapes emerge from reclaimed paper fragments. As a self-identified perfectionist with the world closing in around her at the onset of the pandemic\, Kristi turned to collage as an experimental means of breaking out – outside the lines\, out of her perfectionism\, out of the confines of her home. Right away\, she fell in love with the freedom and duality of collage\, in both process and aesthetic. It is painterly and sculptural; deconstructive and reconstructive; realistic and abstract; intricate and unfussy. Her work is a record of places traveled\, and a map to what lies ahead. And\, situated in a time of such global heartbreak and destruction\, Kristi’s work is a meditative practice in\, and energetic manifestation of\, hope and repair – gluing together pieces of a broken world to remind us all of the beauty that surrounds us. Ultimately\, through her work\, Kristi invites viewers to revel in multiplicity\, sink into the wonder of place\, and make meaning from scrap. \nKristi’s work has been exhibited by galleries in Massachusetts\, Connecticut\, New York\, and Michigan\, recognized by the Massachusetts Cultural Council\, featured in Gillette Stadium and the Massachusetts State House\, and has a fast growing body of collectors near and far. \nwww.kristicolbert.com\nIG @kristicolbertstudio
URL:https://www.easthamptoncityarts.com/event/from-the-pieces-collage-landscapes-by-kristi-w-colbert/
LOCATION:Easthampton City Arts Gallery\, MA\, United States
CATEGORIES:All Ages,Art Walk,Easthampton City Arts Event,Kid-Friendly
ATTACH;FMTTYPE=image/png:https://www.easthamptoncityarts.com/wp-content/uploads/2025/11/screenshot-2025-11-20-at-11.57.45-pm.png
END:VEVENT
END:VCALENDAR