BEGIN:VCALENDAR
VERSION:2.0
PRODID:-//Easthampton City Arts - ECPv6.15.18//NONSGML v1.0//EN
CALSCALE:GREGORIAN
METHOD:PUBLISH
X-WR-CALNAME:Easthampton City Arts
X-ORIGINAL-URL:https://www.easthamptoncityarts.com
X-WR-CALDESC:Events for Easthampton City Arts
REFRESH-INTERVAL;VALUE=DURATION:PT1H
X-Robots-Tag:noindex
X-PUBLISHED-TTL:PT1H
BEGIN:VTIMEZONE
TZID:America/New_York
BEGIN:DAYLIGHT
TZOFFSETFROM:-0500
TZOFFSETTO:-0400
TZNAME:EDT
DTSTART:20240310T070000
END:DAYLIGHT
BEGIN:STANDARD
TZOFFSETFROM:-0400
TZOFFSETTO:-0500
TZNAME:EST
DTSTART:20241103T060000
END:STANDARD
BEGIN:DAYLIGHT
TZOFFSETFROM:-0500
TZOFFSETTO:-0400
TZNAME:EDT
DTSTART:20250309T070000
END:DAYLIGHT
BEGIN:STANDARD
TZOFFSETFROM:-0400
TZOFFSETTO:-0500
TZNAME:EST
DTSTART:20251102T060000
END:STANDARD
BEGIN:DAYLIGHT
TZOFFSETFROM:-0500
TZOFFSETTO:-0400
TZNAME:EDT
DTSTART:20260308T070000
END:DAYLIGHT
BEGIN:STANDARD
TZOFFSETFROM:-0400
TZOFFSETTO:-0500
TZNAME:EST
DTSTART:20261101T060000
END:STANDARD
BEGIN:DAYLIGHT
TZOFFSETFROM:-0500
TZOFFSETTO:-0400
TZNAME:EDT
DTSTART:20270314T070000
END:DAYLIGHT
BEGIN:STANDARD
TZOFFSETFROM:-0400
TZOFFSETTO:-0500
TZNAME:EST
DTSTART:20271107T060000
END:STANDARD
END:VTIMEZONE
BEGIN:VEVENT
DTSTART;TZID=America/New_York:20251204T080000
DTEND;TZID=America/New_York:20260104T170000
DTSTAMP:20260421T184929
CREATED:20251125T211001Z
LAST-MODIFIED:20251125T211001Z
UID:22333-1764835200-1767546000@www.easthamptoncityarts.com
SUMMARY:"Landscapes from Home" by Ron Michaud in Oxbow's Front Gallery
DESCRIPTION:Ron Michaud writes about his work in Oxbow’s upcoming front gallery show: “As the title suggests\, the paintings in this exhibition are inspired by the place that is my home. I have lived and worked in Western Massachusetts nearly all my adult life. I know it well. It is truly home to me. So\, it seems perfectly natural that as a visual artist\, a painter\, I would take as a part of my identity\, the places that I see on a daily basis; places that I have been seeing and interacting with for many years; places that I have returned to often at different times of the day or the season; places that I have found particularly visually intriguing. My years in academia provided an opportunity to engage in inquiry\, exploration and research related to color and vision. My early work consisted of geometric abstract paintings and drawings directly related to those early inquiries. For some twenty or so years now\, I have taken this evolving fascination with color and vision and sought to answer many questions raised in my own mind about its role in the interpretation of the physical world I have come to know. This brought me to some of the places and images most closely associated with that sense of home. The paintings in this exhibition are examples of my continuing fascination with color and vision. The landscapes that I selected evoke for me a personal sense of “home” while at the same time provide a convenient vehicle for demonstrating some of the ways that color and vision help me to interpret\, negotiate and understand the physical world of my everyday life.” \nStop by Oxbow Gallery on December 6th from 4-7pm during the Easthampton City Art Walk to view the works of art and meet the artist!
URL:https://www.easthamptoncityarts.com/event/landscapes-from-home-by-ron-michaud-in-oxbows-front-gallery/
LOCATION:Oxbow Gallery\, 273 Pleasant St\, Northampton\, MA\, 01060\, United States
CATEGORIES:Art Walk,Cottage Street Cultural District,Easthampton City Arts Event,Public Art
ATTACH;FMTTYPE=image/jpeg:https://www.easthamptoncityarts.com/wp-content/uploads/2025/11/exhibition-announcement-december-2025.jpg
ORGANIZER;CN="Oxbow Gallery":MAILTO:theoxbowgallery@gmail.com
END:VEVENT
BEGIN:VEVENT
DTSTART;TZID=America/New_York:20251204T080000
DTEND;TZID=America/New_York:20260104T170000
DTSTAMP:20260421T184929
CREATED:20251125T211028Z
LAST-MODIFIED:20251125T211028Z
UID:22328-1764835200-1767546000@www.easthamptoncityarts.com
SUMMARY:Winter Blue - Group Show at Oxbow Gallery
DESCRIPTION:This December\, Oxbow’s back gallery will be exhibiting “Winter Blue” \, a group show with small works by 23 member-artists. The show’s title evokes frosty twilight and clear chilly dawns and the work in this exhibit interprets this theme with creative and playful abandon. This group show by gallery members includes a wide variety of styles and media\, all in smaller sizes priced for holiday giving. \nStop by Oxbow Gallery on Saturday\, December 6th from 4-7pm during Easthampton City Art Walk to view the works of art and meet some of the artists!
URL:https://www.easthamptoncityarts.com/event/winter-blue-group-show-at-oxbow-gallery/
LOCATION:Oxbow Gallery\, 273 Pleasant St\, Northampton\, MA\, 01060\, United States
CATEGORIES:Art Walk,Cottage Street Cultural District,Easthampton City Arts Event,Public Art
ATTACH;FMTTYPE=image/jpeg:https://www.easthamptoncityarts.com/wp-content/uploads/2025/11/e-postcard-winter-blue_1200px.jpg
ORGANIZER;CN="Oxbow Gallery":MAILTO:theoxbowgallery@gmail.com
END:VEVENT
BEGIN:VEVENT
DTSTART;TZID=America/New_York:20260108T080000
DTEND;TZID=America/New_York:20260201T170000
DTSTAMP:20260421T184929
CREATED:20260105T123028Z
LAST-MODIFIED:20260105T123028Z
UID:22694-1767859200-1769965200@www.easthamptoncityarts.com
SUMMARY:Will Sillin and Elizabeth Lehman at Oxbow Gallery in "Ground Truth"
DESCRIPTION:Oxbow Gallery will exhibit the works of Elizabeth Lehman and Will Sillin in January’s front gallery show “Ground Truth”.  Lehman interprets “Ground Truth” with an emphasis on “Ground”\, as an artist with passion for being physically present and one with the landscapes she paints. She states “I return to the same location in different seasons and at various times of day for close\, direct observation over many days or weeks. The particulars of a given place at a given time make it unique.” Sillin describes “Ground Truth” as “the term used by mappers and researchers for direct observations made in the field.” He interprets the title with an emphasis on “Truth”\, as he captures his subject with great care in an attempt to maintain the truth of its nature. Sillin will be sharing the front gallery show with Oxbow artist Elizabeth Lehman. \nPlease join the artists for the artist reception on Saturday\, January 10th from 4-7pm.
URL:https://www.easthamptoncityarts.com/event/will-sillin-and-elizabeth-lehman-at-oxbow-gallery-in-ground-truth/
LOCATION:Oxbow Art Gallery\, 40 Cottage Street\, Easthampton\, MA\, 01027\, United States
CATEGORIES:Art Walk,Cottage Street Cultural District,Easthampton City Arts Event
ATTACH;FMTTYPE=image/png:https://www.easthamptoncityarts.com/wp-content/uploads/2025/12/cp-ground-truth-promo.png
ORGANIZER;CN="Oxbow Art Gallery":MAILTO:theoxbowgallery@gmail.com
END:VEVENT
BEGIN:VEVENT
DTSTART;TZID=America/New_York:20260108T080000
DTEND;TZID=America/New_York:20260201T170000
DTSTAMP:20260421T184929
CREATED:20260105T123055Z
LAST-MODIFIED:20260105T123055Z
UID:22699-1767859200-1769965200@www.easthamptoncityarts.com
SUMMARY:Anneke S. Corbett and Hannah Corbett at Oxbow Gallery in "Stitchin' Kin"
DESCRIPTION:Oxbow Gallery presents the upcoming back gallery show “Stitchin’ Kin” a Mother/Daughter Art Show displaying the work of Anneke S. Corbett and Hannah Corbett. Anneke S. Corbett is a quilter who derives inspiration from nature & fabrics. She states “The breathtaking moments of seeing creatures in the wild & then trying to convey the same in a quilt are often what keep me in the studio.” Anneke’s daughter\, Hannah Corbett\, is an embroiderer who is currently creating the artwork for an Oracle Deck that she plans to self-publish. The images she is embroidering uses brightly colored thread on black linen. \nPlease join the artists for the artist reception on Saturday\, January 10th from 4-7pm.
URL:https://www.easthamptoncityarts.com/event/anneke-s-corbett-and-hannah-corbett-at-oxbow-gallery-in-stitchin-kin/
LOCATION:Oxbow Art Gallery\, 40 Cottage Street\, Easthampton\, MA\, 01027\, United States
CATEGORIES:Art Walk,Cottage Street Cultural District,Easthampton City Arts Event
ATTACH;FMTTYPE=image/png:https://www.easthamptoncityarts.com/wp-content/uploads/2025/12/stitchin-kin-promo.png
ORGANIZER;CN="Oxbow Art Gallery":MAILTO:theoxbowgallery@gmail.com
END:VEVENT
END:VCALENDAR