BEGIN:VCALENDAR
VERSION:2.0
PRODID:-//Easthampton City Arts - ECPv6.15.18//NONSGML v1.0//EN
CALSCALE:GREGORIAN
METHOD:PUBLISH
X-ORIGINAL-URL:https://www.easthamptoncityarts.com
X-WR-CALDESC:Events for Easthampton City Arts
REFRESH-INTERVAL;VALUE=DURATION:PT1H
X-Robots-Tag:noindex
X-PUBLISHED-TTL:PT1H
BEGIN:VTIMEZONE
TZID:America/New_York
BEGIN:DAYLIGHT
TZOFFSETFROM:-0500
TZOFFSETTO:-0400
TZNAME:EDT
DTSTART:20240310T070000
END:DAYLIGHT
BEGIN:STANDARD
TZOFFSETFROM:-0400
TZOFFSETTO:-0500
TZNAME:EST
DTSTART:20241103T060000
END:STANDARD
BEGIN:DAYLIGHT
TZOFFSETFROM:-0500
TZOFFSETTO:-0400
TZNAME:EDT
DTSTART:20250309T070000
END:DAYLIGHT
BEGIN:STANDARD
TZOFFSETFROM:-0400
TZOFFSETTO:-0500
TZNAME:EST
DTSTART:20251102T060000
END:STANDARD
BEGIN:DAYLIGHT
TZOFFSETFROM:-0500
TZOFFSETTO:-0400
TZNAME:EDT
DTSTART:20260308T070000
END:DAYLIGHT
BEGIN:STANDARD
TZOFFSETFROM:-0400
TZOFFSETTO:-0500
TZNAME:EST
DTSTART:20261101T060000
END:STANDARD
END:VTIMEZONE
BEGIN:VEVENT
DTSTART;VALUE=DATE:20250701
DTEND;VALUE=DATE:20250901
DTSTAMP:20260420T082331
CREATED:20250626T124038Z
LAST-MODIFIED:20250626T124038Z
UID:19774-1751328000-1756684799@www.easthamptoncityarts.com
SUMMARY:Sarah Marquesen Art at Dry Humor
DESCRIPTION:Help us welcome the latest artist to hit the walls at Dry Humor\, Sarah Marquesen (she/her). Sarah views her work as a way to bring the viewer a moment of happiness in a troubled world. Most of her portraiture work focuses on animals and she attempts for the viewer to connect with more vulnerable creatures. As an artist\, she feels she has a cherished opportunity to encourage empathy and challenge societal norms. Her goal is to stoke empathy to make a more compassionate world. Sarah works primarily in acrylic paint\, graphite and ink. \nArt Walk attendees will enjoy free samples of non-alcoholic beverages and light snacks. Lets cheers to this amazing\, local\, LGBTQIA+ artist!
URL:https://www.easthamptoncityarts.com/event/sarah-marquesen-art-at-dry-humor/
LOCATION:Dry Humor\, 79 Union Street\, Easthampton\, 01027\, United States
CATEGORIES:Art Walk
ATTACH;FMTTYPE=image/jpeg:https://www.easthamptoncityarts.com/wp-content/uploads/2025/06/capture.jpg
ORGANIZER;CN="Dry Humor":MAILTO:info@dryhumor-shop.com
END:VEVENT
BEGIN:VEVENT
DTSTART;TZID=America/New_York:20250701T080000
DTEND;TZID=America/New_York:20250731T170000
DTSTAMP:20260420T082331
CREATED:20250702T175145Z
LAST-MODIFIED:20250702T175145Z
UID:19876-1751356800-1753981200@www.easthamptoncityarts.com
SUMMARY:Paintings by by Val Colesnikov
DESCRIPTION:Val Colesnikov\, 77 years old\, was born in Moldova\, became an artist without experience about 6 years ago\, started as a little hobby\, wanting to share some good memories with people around using oil paints on canvas.  He hopes you enjoy.
URL:https://www.easthamptoncityarts.com/event/paintings-by-by-val-colesnikov/
LOCATION:Mt. Tom’s Homemade Ice Cream\, 34 Cottage Street\, Easthampton\, MA\, 01027\, United States
CATEGORIES:Art Walk
ATTACH;FMTTYPE=image/jpeg:https://www.easthamptoncityarts.com/wp-content/uploads/2025/07/img_9254.jpeg
END:VEVENT
BEGIN:VEVENT
DTSTART;TZID=America/New_York:20250703T080000
DTEND;TZID=America/New_York:20250727T200000
DTSTAMP:20260420T082331
CREATED:20250625T162325Z
LAST-MODIFIED:20250625T162325Z
UID:19750-1751529600-1753646400@www.easthamptoncityarts.com
SUMMARY:Olwen O'Herlihy Dowling at Oxbow Gallery
DESCRIPTION:Dowling’s titled her show “One Foot in Two Places” \nShe states about her upcoming show: \n“I decided to title my exhibit “A Foot in Two Places” as I have lived my life between\nIreland and the United States. The times we are currently living in have made me feel\nvery close ties emotionally and physically to being an American. It seems each day we\nare feeling our equilibrium askew with a continuing barrage from outside sources that\naffect much more than we ever imagined. I wanted to share and paint what I love about\nboth countries.”
URL:https://www.easthamptoncityarts.com/event/olwen-oherlihy-dowling-at-oxbow-gallery/
LOCATION:Oxbow Art Gallery\, 40 Cottage Street\, Easthampton\, MA\, 01027\, United States
CATEGORIES:Art Walk,Cottage Street Cultural District
ATTACH;FMTTYPE=image/jpeg:https://www.easthamptoncityarts.com/wp-content/uploads/2025/06/dowling1-onefootintwoplaces-scaled.jpg
END:VEVENT
BEGIN:VEVENT
DTSTART;TZID=America/New_York:20250703T080000
DTEND;TZID=America/New_York:20250727T200000
DTSTAMP:20260420T082331
CREATED:20250625T162337Z
LAST-MODIFIED:20250625T162337Z
UID:19752-1751529600-1753646400@www.easthamptoncityarts.com
SUMMARY:Brian Chu at Oxbow Gallery
DESCRIPTION:Brian Chu’s titled his show “New old painting” \nThis exhibition showcases 25 small to medium-sized oil paintings of cityscapes and still\nlife. Created through direct observation on location and developed over time in the\nstudio\, these works represent an ongoing personal journey. They explore the process of\nmoving beyond initial impressions\, revealing moments of discovery and negotiation of\nartistic choices.
URL:https://www.easthamptoncityarts.com/event/brian-chu-at-oxbow-gallery/
LOCATION:Oxbow Art Gallery\, 40 Cottage Street\, Easthampton\, MA\, 01027\, United States
ATTACH;FMTTYPE=image/jpeg:https://www.easthamptoncityarts.com/wp-content/uploads/2025/06/chu_rail-museum-portland12x16-oil-on-canvas-board-2022-2025.jpg
ORGANIZER;CN="Oxbow Art Gallery":MAILTO:theoxbowgallery@gmail.com
END:VEVENT
END:VCALENDAR