BEGIN:VCALENDAR
VERSION:2.0
PRODID:-//Easthampton City Arts - ECPv6.15.18//NONSGML v1.0//EN
CALSCALE:GREGORIAN
METHOD:PUBLISH
X-ORIGINAL-URL:https://www.easthamptoncityarts.com
X-WR-CALDESC:Events for Easthampton City Arts
REFRESH-INTERVAL;VALUE=DURATION:PT1H
X-Robots-Tag:noindex
X-PUBLISHED-TTL:PT1H
BEGIN:VTIMEZONE
TZID:America/New_York
BEGIN:DAYLIGHT
TZOFFSETFROM:-0500
TZOFFSETTO:-0400
TZNAME:EDT
DTSTART:20240310T070000
END:DAYLIGHT
BEGIN:STANDARD
TZOFFSETFROM:-0400
TZOFFSETTO:-0500
TZNAME:EST
DTSTART:20241103T060000
END:STANDARD
BEGIN:DAYLIGHT
TZOFFSETFROM:-0500
TZOFFSETTO:-0400
TZNAME:EDT
DTSTART:20250309T070000
END:DAYLIGHT
BEGIN:STANDARD
TZOFFSETFROM:-0400
TZOFFSETTO:-0500
TZNAME:EST
DTSTART:20251102T060000
END:STANDARD
BEGIN:DAYLIGHT
TZOFFSETFROM:-0500
TZOFFSETTO:-0400
TZNAME:EDT
DTSTART:20260308T070000
END:DAYLIGHT
BEGIN:STANDARD
TZOFFSETFROM:-0400
TZOFFSETTO:-0500
TZNAME:EST
DTSTART:20261101T060000
END:STANDARD
END:VTIMEZONE
BEGIN:VEVENT
DTSTART;VALUE=DATE:20250501
DTEND;VALUE=DATE:20250701
DTSTAMP:20260421T223812
CREATED:20250507T192357Z
LAST-MODIFIED:20250512T170104Z
UID:19239-1746057600-1751327999@www.easthamptoncityarts.com
SUMMARY:Andi Holland Art at Dry Humor
DESCRIPTION:Local artist Andrea (Andi) Holland makes her showcase debut at Dry Humor\, a non-alcoholic bottle shop located on Union Street in Easthampton. From graphite and charcoal to mixed media and digital art\, her artwork features various themes ranging from children’s illustrations to evocative facial expressions and representations of local landmarks. Please join us in celebrating this new and budding local artist while enjoying free samples of non-alcoholic beverages and purchase discounts at Dry Humor! \nDry Humor will be open for our debut Art Walk Easthampton on Saturday June 7th!
URL:https://www.easthamptoncityarts.com/event/andi-holland-art-at-dry-humor/
LOCATION:Dry Humor\, 79 Union Street\, Easthampton\, 01027\, United States
CATEGORIES:Art Walk
ATTACH;FMTTYPE=image/jpeg:https://www.easthamptoncityarts.com/wp-content/uploads/2025/05/img_0314-rotated.jpeg
ORGANIZER;CN="Dry Humor":MAILTO:info@dryhumor-shop.com
END:VEVENT
BEGIN:VEVENT
DTSTART;VALUE=DATE:20250516
DTEND;VALUE=DATE:20250701
DTSTAMP:20260421T223812
CREATED:20250520T154711Z
LAST-MODIFIED:20250520T154711Z
UID:19311-1747353600-1751327999@www.easthamptoncityarts.com
SUMMARY:Reliableink at Dry Humor
DESCRIPTION:Local artist John Mark Lampley\, aka Reliableink\, makes his showcase debut at Dry Humor\, a non-alcoholic bottle shop located on Union Street in Easthampton. John is an ecologist\, illustrator and artist based in Western Massachusetts working primarily in pen and ink and graphite. His work is inspired by the simple\, elemental things\, exploring cosmic sbjects\, landscapes\, and skyscapes. He studies themes of belonging\, connection\, ecosystem health and healing\, queerness and grief. Please join us in celebrating this new and budding local artist while enjoying free samples of non-alcoholic beverages at Dry Humor!
URL:https://www.easthamptoncityarts.com/event/reliableink-at-dry-humor/
LOCATION:Dry Humor\, 79 Union Street\, Easthampton\, 01027\, United States
CATEGORIES:Art Walk
ATTACH;FMTTYPE=image/jpeg:https://www.easthamptoncityarts.com/wp-content/uploads/2025/05/img_8846-1.jpg
ORGANIZER;CN="Dry Humor":MAILTO:info@dryhumor-shop.com
END:VEVENT
BEGIN:VEVENT
DTSTART;TZID=America/New_York:20250601T080000
DTEND;TZID=America/New_York:20250630T210000
DTSTAMP:20260421T223812
CREATED:20250602T195615Z
LAST-MODIFIED:20250602T195615Z
UID:19471-1748764800-1751317200@www.easthamptoncityarts.com
SUMMARY:Paintings by Dennis Campbell
DESCRIPTION:Stop in to check out the latest collection of beautiful paintings by local artist\, Dennis Campbell.  You may have had him as your art teacher at EHS?  Showing through the month of June here at Mt Tom’s Homemade Ice Cream.
URL:https://www.easthamptoncityarts.com/event/paintings-by-dennis-campbell/
LOCATION:Mt. Tom’s Homemade Ice Cream\, 34 Cottage Street\, Easthampton\, MA\, 01027\, United States
CATEGORIES:Art Walk
ATTACH;FMTTYPE=image/jpeg:https://www.easthamptoncityarts.com/wp-content/uploads/2025/06/img_3439-scaled.jpeg
END:VEVENT
BEGIN:VEVENT
DTSTART;TZID=America/New_York:20250605T080000
DTEND;TZID=America/New_York:20250629T170000
DTSTAMP:20260421T223812
CREATED:20250520T140533Z
LAST-MODIFIED:20250520T140533Z
UID:19353-1749110400-1751216400@www.easthamptoncityarts.com
SUMMARY:Stephanie Vignone: "Familiar Places:  Landscapes" and Roxanne Boyd: "Framing Light"
DESCRIPTION:FRONT GALLERY: \nAs far back as she can remember\, Vignone has spent lots of time walking outdoors. She loves to be outside—in the woods\, hiking with her dogs\, in the gardens by her house. About twenty years ago\, she took a pastel landscape painting class\, and began to combine my love of the natural world with painting. Painting the places she sees has given her another deep way to connect with them.  \nThe paintings are done in pastel and oil paint. They are based in observation and sketching—some are finished plein air\, and some in the studio.  \n  \nBoyd pieces are constructions. Boyd often utilizes found objects\, and in the upcoming show at Oxbow Gallery\, she will be displaying pieces which have an emphasis on their relationship to light. 
URL:https://www.easthamptoncityarts.com/event/stephanie-vignone-familiar-places-landscapes-and-roxanne-boyd-framing-light/
LOCATION:Oxbow Gallery\, 273 Pleasant St\, Northampton\, MA\, 01060\, United States
CATEGORIES:Art Walk,Cottage Street Cultural District
ATTACH;FMTTYPE=image/jpeg:https://www.easthamptoncityarts.com/wp-content/uploads/2025/05/early-snow-on-mt-toby-1.jpg
ORGANIZER;CN="Oxbow Gallery":MAILTO:theoxbowgallery@gmail.com
END:VEVENT
BEGIN:VEVENT
DTSTART;TZID=America/New_York:20250605T080000
DTEND;TZID=America/New_York:20250629T170000
DTSTAMP:20260421T223812
CREATED:20250520T140557Z
LAST-MODIFIED:20250520T140557Z
UID:19355-1749110400-1751216400@www.easthamptoncityarts.com
SUMMARY:Katherine Weinstein: "Junctures
DESCRIPTION:Katherine received her MFA from the New York Academy of Art\, in NYC where she maintained a studio practice and taught art to middle and high-school students for many years before moving to the valley two decades ago. She continues her passion for painting and teaching art at numerous venues. \n  \nJunctures\, a particular point in an event or time; a place where things join. \n  \nThe title reflects the narrative and visual focus of this body of work; themes of adolescence\, empty nesting\, or just spatial tensions.When developing her images\, Katherine looks for transitional points and overlapping forms; jutting elbows\, twisting torsos\, bodies receding into space or crossing one another.
URL:https://www.easthamptoncityarts.com/event/katherine-weinstein-junctures/
LOCATION:Oxbow Gallery\, 273 Pleasant St\, Northampton\, MA\, 01060\, United States
CATEGORIES:Art Walk,Cottage Street Cultural District
ATTACH;FMTTYPE=image/jpeg:https://www.easthamptoncityarts.com/wp-content/uploads/2025/05/weinstein-float-2024-.jpg
ORGANIZER;CN="Oxbow Gallery":MAILTO:theoxbowgallery@gmail.com
END:VEVENT
BEGIN:VEVENT
DTSTART;VALUE=DATE:20250607
DTEND;VALUE=DATE:20250629
DTSTAMP:20260421T223812
CREATED:20250531T091609Z
LAST-MODIFIED:20250531T091609Z
UID:19400-1749254400-1751155199@www.easthamptoncityarts.com
SUMMARY:THE AWAKENING - Rosemary Barrett
DESCRIPTION:June 7\, 2025 – June 28\, 2025 \n\n\n\n\n\n\nArtWalk and Artist Reception: Saturday June 7\, 4-7pm\n\n\n\nRosemary Barrett is an accomplished artist who has shown her work in Europe and the US for the past three decades.\nMs. Barrett comes from a long line of artists and craftsmen who exposed her to ideas and techniques that have influenced her sculpture and painting. Art is important in the Barrett family and Rosemary’s love and exploration started early. Awards in High School and College include a full Ford Foundation Scholarship and various museum scholarships.\nAssemblage is among Ms. Barrett’s early accomplishments. They explore poetic themes with found objects arranged in delicate boxes. In the Joseph Cornell tradition they exemplify the power of duality and extemporaneous fusion. The influence of assemblage is evident in her sculpture and painting as well.\nAt St. John the Divine in NYC\, Ms. Barrett worked within the resident program for The Fantasy Foundation with Gregg Wyatt\, developing skills for cold casting and bronze work. She carries that knowledge and aesthetic to the studio when teaching students sculpture. \n\nThis exhibit will showcase a selections of her floral paintings\, larger than life in more ways than one\,  and an appropriate subject matter for this Spring Season. \n\n 
URL:https://www.easthamptoncityarts.com/event/the-awakening-rosemary-barrett/
LOCATION:Elusie Gallery at Big Red Frame\, 43 Main Street\, Easthampton\, MA\, 01027\, United States
CATEGORIES:Art Walk
ATTACH;FMTTYPE=image/jpeg:https://www.easthamptoncityarts.com/wp-content/uploads/2025/05/img_0084-scaled.jpg
END:VEVENT
BEGIN:VEVENT
DTSTART;VALUE=DATE:20250628
DTEND;VALUE=DATE:20250629
DTSTAMP:20260421T223812
CREATED:20250106T163852Z
LAST-MODIFIED:20250106T163852Z
UID:17474-1751068800-1751155199@www.easthamptoncityarts.com
SUMMARY:Thunder in the Valley Concert & Fireworks
DESCRIPTION:Get ready for an electrifying extravaganza like no other! Thunder in the Valley Festival is back on June 28\,2025 and better than ever. Mark your calendars for next year’s event\, where we’ll be bringing you an unforgettable night filled with live music\, mesmerizing fireworks\, mouthwatering food\, refreshing drinks\, and thrilling games. But that’s not all! By attending this incredible event\, you’ll also be making a difference in the lives of children in need. That’s right – all proceeds will go towards supporting the local Children’s Miracle Network Hospital in western Massachusetts. So\, gather your friends and family\, and get ready to have a blast while giving back to your community. Thunder in the Valley Festival is the place to be! Its open to the PUBLIC\, And best of all\, any money raised goes to Charity!!! SHOW YOU CARE\, BE THERE! All ages Children under 16 Free with adult rain or shine No outside food or drink lawn chairs and blankets welcome but no easy ups (small beach type umbrellas are ok)
URL:https://www.easthamptoncityarts.com/event/thunder-in-the-valley-concert-fireworks/
LOCATION:Molitoris Farm\, 95 Park Hill Road\,\, Easthampton\, MA\, 01027\, United States
CATEGORIES:All Ages,Easthampton Events,Kid-Friendly,Performance,Signature Events
ATTACH;FMTTYPE=image/jpeg:https://www.easthamptoncityarts.com/wp-content/uploads/2025/01/fb-cover-photo-1-2.jpg
ORGANIZER;CN="Unbroken Wings Inc.":MAILTO:unbrokenwings@yahoo.com
END:VEVENT
BEGIN:VEVENT
DTSTART;VALUE=DATE:20250628
DTEND;VALUE=DATE:20250629
DTSTAMP:20260421T223812
CREATED:20250602T140023Z
LAST-MODIFIED:20250602T140023Z
UID:19426-1751068800-1751155199@www.easthamptoncityarts.com
SUMMARY:Thunder in the Valley Concert & Fireworks
DESCRIPTION:This photo
URL:https://www.easthamptoncityarts.com/event/thunder-in-the-valley-concert-fireworks-2/
LOCATION:Molitoris Farm\, 95 Park Hill Road\,\, Easthampton\, MA\, 01027\, United States
ATTACH;FMTTYPE=image/jpeg:https://www.easthamptoncityarts.com/wp-content/uploads/2025/06/img_4214.jpeg
ORGANIZER;CN="Unbroken Wings Inc.":MAILTO:unbrokenwings@yahoo.com
END:VEVENT
END:VCALENDAR