BEGIN:VCALENDAR
VERSION:2.0
PRODID:-//Easthampton City Arts - ECPv6.15.18//NONSGML v1.0//EN
CALSCALE:GREGORIAN
METHOD:PUBLISH
X-WR-CALNAME:Easthampton City Arts
X-ORIGINAL-URL:https://www.easthamptoncityarts.com
X-WR-CALDESC:Events for Easthampton City Arts
REFRESH-INTERVAL;VALUE=DURATION:PT1H
X-Robots-Tag:noindex
X-PUBLISHED-TTL:PT1H
BEGIN:VTIMEZONE
TZID:America/New_York
BEGIN:DAYLIGHT
TZOFFSETFROM:-0500
TZOFFSETTO:-0400
TZNAME:EDT
DTSTART:20240310T070000
END:DAYLIGHT
BEGIN:STANDARD
TZOFFSETFROM:-0400
TZOFFSETTO:-0500
TZNAME:EST
DTSTART:20241103T060000
END:STANDARD
BEGIN:DAYLIGHT
TZOFFSETFROM:-0500
TZOFFSETTO:-0400
TZNAME:EDT
DTSTART:20250309T070000
END:DAYLIGHT
BEGIN:STANDARD
TZOFFSETFROM:-0400
TZOFFSETTO:-0500
TZNAME:EST
DTSTART:20251102T060000
END:STANDARD
BEGIN:DAYLIGHT
TZOFFSETFROM:-0500
TZOFFSETTO:-0400
TZNAME:EDT
DTSTART:20260308T070000
END:DAYLIGHT
BEGIN:STANDARD
TZOFFSETFROM:-0400
TZOFFSETTO:-0500
TZNAME:EST
DTSTART:20261101T060000
END:STANDARD
END:VTIMEZONE
BEGIN:VEVENT
DTSTART;VALUE=DATE:20250501
DTEND;VALUE=DATE:20250701
DTSTAMP:20260419T182637
CREATED:20250507T192357Z
LAST-MODIFIED:20250512T170104Z
UID:19239-1746057600-1751327999@www.easthamptoncityarts.com
SUMMARY:Andi Holland Art at Dry Humor
DESCRIPTION:Local artist Andrea (Andi) Holland makes her showcase debut at Dry Humor\, a non-alcoholic bottle shop located on Union Street in Easthampton. From graphite and charcoal to mixed media and digital art\, her artwork features various themes ranging from children’s illustrations to evocative facial expressions and representations of local landmarks. Please join us in celebrating this new and budding local artist while enjoying free samples of non-alcoholic beverages and purchase discounts at Dry Humor! \nDry Humor will be open for our debut Art Walk Easthampton on Saturday June 7th!
URL:https://www.easthamptoncityarts.com/event/andi-holland-art-at-dry-humor/
LOCATION:Dry Humor\, 79 Union Street\, Easthampton\, 01027\, United States
CATEGORIES:Art Walk
ATTACH;FMTTYPE=image/jpeg:https://www.easthamptoncityarts.com/wp-content/uploads/2025/05/img_0314-rotated.jpeg
ORGANIZER;CN="Dry Humor":MAILTO:info@dryhumor-shop.com
END:VEVENT
BEGIN:VEVENT
DTSTART;TZID=America/New_York:20250501T080000
DTEND;TZID=America/New_York:20250525T170000
DTSTAMP:20260419T182637
CREATED:20250501T154324Z
LAST-MODIFIED:20250501T154324Z
UID:19180-1746086400-1748192400@www.easthamptoncityarts.com
SUMMARY:Frances Kidder: Body And Soul
DESCRIPTION:In 2020\, during the early days of the Covid pandemic\, I began \nmaking paintings of subjects close to home – myself\, my husband \nand a few friends. Picking up that thread some years later\, I’ve \nbeen painting from photographs of geographically far-flung friends \nand family\, and one seaside couple I saw but never met. \nIn these works\, I wanted\, above all\, to make an interesting \npainting\, while also catching something of the person’s \nanimating spark.
URL:https://www.easthamptoncityarts.com/event/frances-kidder-body-and-soul/
LOCATION:Oxbow Gallery\, 273 Pleasant St\, Northampton\, MA\, 01060\, United States
CATEGORIES:Art Walk,Cottage Street Cultural District
ATTACH;FMTTYPE=image/jpeg:https://www.easthamptoncityarts.com/wp-content/uploads/2025/05/frankiddermay25true.jpeg
END:VEVENT
BEGIN:VEVENT
DTSTART;TZID=America/New_York:20250501T080000
DTEND;TZID=America/New_York:20250525T170000
DTSTAMP:20260419T182637
CREATED:20250501T154506Z
LAST-MODIFIED:20250501T154506Z
UID:19185-1746086400-1748192400@www.easthamptoncityarts.com
SUMMARY:Jeffrey Gillis: Una Familia
DESCRIPTION:Painting any chance he got and wanting to leave his mark in the annals of fine art\, Jeffrey Gillis’ first show was in McKenna’s Bar at 14th and 8th. For his latest show\, Una Familia\, the spotlight is on his in-laws and the time of his wedding in the Dominican Republic. Coming from a family in which he had one first cousin\, the whole idea of family is new to him.
URL:https://www.easthamptoncityarts.com/event/jeffrey-gillis-una-familia/
LOCATION:Oxbow Gallery\, 273 Pleasant St\, Northampton\, MA\, 01060\, United States
CATEGORIES:Art Walk,Cottage Street Cultural District
ATTACH;FMTTYPE=image/jpeg:https://www.easthamptoncityarts.com/wp-content/uploads/2025/05/gillis-jeffrey.-una-familia.jpg
END:VEVENT
BEGIN:VEVENT
DTSTART;TZID=America/New_York:20250501T080000
DTEND;TZID=America/New_York:20250531T170000
DTSTAMP:20260419T182637
CREATED:20250426T174235Z
LAST-MODIFIED:20250426T174235Z
UID:19043-1746086400-1748710800@www.easthamptoncityarts.com
SUMMARY:Art by Aldo Cipriani 
DESCRIPTION:My work is equal parts Musical Imagery and Abstract Expressionism.  Being a musician and Animal Lover\, I use my imagination to marry the two in fun themes and vibrant colors to exude happiness and humor.  The more abstract pieces are expressions of the emotions I am feeling in the moment of creation.
URL:https://www.easthamptoncityarts.com/event/art-by-aldo-cipriani/
LOCATION:Mt. Tom’s Homemade Ice Cream\, 34 Cottage Street\, Easthampton\, MA\, 01027\, United States
CATEGORIES:Art Walk
ATTACH;FMTTYPE=image/jpeg:https://www.easthamptoncityarts.com/wp-content/uploads/2025/04/image0-1.jpeg
END:VEVENT
BEGIN:VEVENT
DTSTART;VALUE=DATE:20250503
DTEND;VALUE=DATE:20250601
DTSTAMP:20260419T182637
CREATED:20250428T143904Z
LAST-MODIFIED:20250428T143956Z
UID:19119-1746230400-1748735999@www.easthamptoncityarts.com
SUMMARY:Secrets...
DESCRIPTION:The Elusie Gallery\nMay 3 – May 31\nArtists Reception: Saturday May 3\, 4-7pm \nSecrets… we all have them\, we keep them\, we share them. They fascinate us\, they haunt us\, they distress us\, they bond us to each other\, or they divide us. They can be wonderful\, tragic\, humorous\, devastating\, or sources of renewed energy. \nThis interactive exhibit (there will be a confessional booth…) will feature artwork by Valley artists inspired by the term “secrets”\, inspired by their secrets\, or by what the word “secrets” represents to them. \nA group exhibit conceived by Loretta Kane.\nCurated by Loretta Kane and Jean-Pierre Pasche.
URL:https://www.easthamptoncityarts.com/event/secrets/
LOCATION:Elusie Gallery at Big Red Frame\, 43 Main Street\, Easthampton\, MA\, 01027\, United States
CATEGORIES:Art Walk
ATTACH;FMTTYPE=image/jpeg:https://www.easthamptoncityarts.com/wp-content/uploads/2025/04/we-all-have-secrets.jpg
END:VEVENT
BEGIN:VEVENT
DTSTART;TZID=America/New_York:20250503T100000
DTEND;TZID=America/New_York:20250503T170000
DTSTAMP:20260419T182637
CREATED:20250429T133629Z
LAST-MODIFIED:20250429T133629Z
UID:19142-1746266400-1746291600@www.easthamptoncityarts.com
SUMMARY:Cottage Street Open Studios!
DESCRIPTION:Cottage Street Open Studios is taking place this weekend at 1 Cottage Street — 10am-5pm both days!
URL:https://www.easthamptoncityarts.com/event/cottage-street-open-studios-2/
LOCATION:Cottage Street Studios\, 1 Cottage Street\, Easthampton\, MA\, 01027\, United States
CATEGORIES:Art Walk
ATTACH;FMTTYPE=image/jpeg:https://www.easthamptoncityarts.com/wp-content/uploads/2025/04/f68c47b7-a6de-4f39-8e7f-e332016031b5.jpg
ORGANIZER;CN="Cottage Street Studios":MAILTO:latimerglass2@gmail.com
END:VEVENT
BEGIN:VEVENT
DTSTART;TZID=America/New_York:20250503T100000
DTEND;TZID=America/New_York:20250503T190000
DTSTAMP:20260419T182637
CREATED:20250428T144245Z
LAST-MODIFIED:20250428T144245Z
UID:19102-1746266400-1746298800@www.easthamptoncityarts.com
SUMMARY:Hashi Pottery - Art Walk Open House at 50 Arrow Gallery
DESCRIPTION:Join us at Hashi during the May Art Walk for a celebration of handmade beauty and thoughtful gifts. We’ll be featuring a special selection of one-of-a-kind ceramics\, textiles\, and artisan goods perfect for Mother’s Day giving. Explore the work of local and Japanese-inspired artists in a welcoming\, peaceful setting.
URL:https://www.easthamptoncityarts.com/event/hashi-pottery-art-walk-open-house-at-50-arrow-gallery/
LOCATION:50 arrow Gallery\, 116 Pleasant St.\, Suite 244\, Easthampton\, MA\, 01027\, United States
CATEGORIES:Art Walk
ATTACH;FMTTYPE=image/jpeg:https://www.easthamptoncityarts.com/wp-content/uploads/2025/04/gift-card-image-instore-copy-2.jpg
ORGANIZER;CN="Hashi Pottery Plus":MAILTO:hashipottery@gmail.com
END:VEVENT
BEGIN:VEVENT
DTSTART;TZID=America/New_York:20250503T110000
DTEND;TZID=America/New_York:20250503T180000
DTSTAMP:20260419T182637
CREATED:20250424T202510Z
LAST-MODIFIED:20250424T202510Z
UID:19009-1746270000-1746295200@www.easthamptoncityarts.com
SUMMARY:Free Comic Book Day 2025
DESCRIPTION:Saturday\, May 3rd FREE COMIC BOOK DAY – Free Comics\, Big Bargains\, Comics For Everyone! Unexpired and non perishable goods drive for the Easthampton Community Center. 2 Free comics per person but you can get more by donating to the supply drive! Costume contest! \nDAY OF SALES: \n – Buy One get One Half Off: Priced Back Issues\, Action Figures\, Manga\,  Graphic Novels\, and Collected editions.\n– 50 cent bins – all dollar comics are half off!\n– Buy One Get One FREE Fun Runs and comics sets!\nGUESTS:\nAndy Curto\, former owner of comics n’more\, selling stuff!\nBrett Kelley\, artist\, selling art!\nJon York – appearing as a surprise super powered cosplay!\nGreat Falls Books Through Bars will be selling books!\n 
URL:https://www.easthamptoncityarts.com/event/free-comic-book-day-2025/
LOCATION:comics n’more\, 64 Cottage st\, Easthampton\, MA\, 01027\, United States
CATEGORIES:Art Walk,Cottage Street Cultural District
ATTACH;FMTTYPE=image/jpeg:https://www.easthamptoncityarts.com/wp-content/uploads/2025/04/191085406_10165096949990573_3802723072922208157_n.jpg
ORGANIZER;CN="comics n'more":MAILTO:Comicsnmoreeast@gmail.com
END:VEVENT
BEGIN:VEVENT
DTSTART;TZID=America/New_York:20250503T140000
DTEND;TZID=America/New_York:20250503T190000
DTSTAMP:20260419T182637
CREATED:20250414T105930Z
LAST-MODIFIED:20250414T105930Z
UID:18907-1746280800-1746298800@www.easthamptoncityarts.com
SUMMARY:Print Day in May!
DESCRIPTION:Get ready for Print Day in May! Come hang out with us on Saturday\, May 3rd\, from 2-7pm in Suite 160! Watch live demos\, shop prints from local artists and more! Don’t miss out on this vibrant celebration of printmaking!
URL:https://www.easthamptoncityarts.com/event/print-day-in-may/
LOCATION:Eastworks\, 116 Pleasant St. West End Community Room\, Easthampton\, MA\, 01027\, United States
CATEGORIES:Art Walk
ATTACH;FMTTYPE=image/jpeg:https://www.easthamptoncityarts.com/wp-content/uploads/2025/04/print-day.jpg
END:VEVENT
BEGIN:VEVENT
DTSTART;TZID=America/New_York:20250503T150000
DTEND;TZID=America/New_York:20250503T190000
DTSTAMP:20260419T182637
CREATED:20250401T144400Z
LAST-MODIFIED:20250401T144400Z
UID:18775-1746284400-1746298800@www.easthamptoncityarts.com
SUMMARY:Easthampton Skate Club Makers Market
DESCRIPTION:Multiple vendors tabling in the ESC skatepark and clubhouse for our first ever Makers Market. \nArt\, ceramics\, vintage\, skateboards\, crafts\, and more! \nLocated in suite 030 on the ground floor of the Eastworks building.
URL:https://www.easthamptoncityarts.com/event/easthampton-skate-club-makers-market/
LOCATION:Eastworks\, 116 Pleasant St. West End Community Room\, Easthampton\, MA\, 01027\, United States
CATEGORIES:Art Walk
ATTACH;FMTTYPE=image/png:https://www.easthamptoncityarts.com/wp-content/uploads/2025/04/may-makers-market.png
END:VEVENT
BEGIN:VEVENT
DTSTART;TZID=America/New_York:20250503T160000
DTEND;TZID=America/New_York:20250503T190000
DTSTAMP:20260419T182637
CREATED:20250224T190057Z
LAST-MODIFIED:20250224T190057Z
UID:18269-1746288000-1746298800@www.easthamptoncityarts.com
SUMMARY:Art Walk Easthampton
DESCRIPTION:A celebration of art\, community\, and culture\, taking place every first Saturday of the month.
URL:https://www.easthamptoncityarts.com/event/art-walk-easthampton-3/
LOCATION:Various Locations Throughout Easthampton\,MA
CATEGORIES:Art Walk
ATTACH;FMTTYPE=image/png:https://www.easthamptoncityarts.com/wp-content/uploads/2025/02/eca-art-walk-_-may.png
END:VEVENT
BEGIN:VEVENT
DTSTART;TZID=America/New_York:20250503T160000
DTEND;TZID=America/New_York:20250503T190000
DTSTAMP:20260419T182637
CREATED:20250409T145652Z
LAST-MODIFIED:20250429T133032Z
UID:18872-1746288000-1746298800@www.easthamptoncityarts.com
SUMMARY:Riverside Arts Gallery Opening
DESCRIPTION:Riverside Arts’ new gallery and studio space is now open to the public! We invite everyone to come experience the immense creativity of people living with intellectual and developmental disabilities. The space showcases some of the art and products that are hand-made by the individuals we serve at Riverside. Support artists with disabilities\, shop local\, and experience our community!
URL:https://www.easthamptoncityarts.com/event/riverside-arts-gallery-opening/
LOCATION:Riverside Industries\, 1 Cottage Street\, 1 Cottage Street\, Easthampton\, 01027\, United States
CATEGORIES:Art Walk
ATTACH;FMTTYPE=image/jpeg:https://www.easthamptoncityarts.com/wp-content/uploads/2025/04/img_7581.jpg
ORGANIZER;CN="Riverside Arts":MAILTO:hphilips@rsi.org
END:VEVENT
BEGIN:VEVENT
DTSTART;TZID=America/New_York:20250503T160000
DTEND;TZID=America/New_York:20250503T190000
DTSTAMP:20260419T182637
CREATED:20250416T150831Z
LAST-MODIFIED:20250416T150831Z
UID:18928-1746288000-1746298800@www.easthamptoncityarts.com
SUMMARY:ArtWalk @ Amanda Barrow's studio #244 !
DESCRIPTION:Stop by Amanda Barrow’s studio #244 at the iconic Eastworks Building during ArtWalk on Saturday\, May 3 anytime from 4 – 7 pm to see where the magic happens! Amanda will open her door to the public\, showing recent paintings\, monotype prints\, and drawings. She may even be doing some printing while you visit! See you then!
URL:https://www.easthamptoncityarts.com/event/artwalk-amanda-barrows-studio-244/
LOCATION:Amanda Barrow\, Eastworks #244\, 116 Pleasant St. #244\, Easthampton\, 01027\, United States
CATEGORIES:All Ages,Art Walk,Classes & Workshops,Easthampton City Arts Event
ATTACH;FMTTYPE=image/jpeg:https://www.easthamptoncityarts.com/wp-content/uploads/2025/04/promo-0.jpg
ORGANIZER;CN="Amanda Barrow":MAILTO:bridge.arts.1@gmail.com
END:VEVENT
BEGIN:VEVENT
DTSTART;TZID=America/New_York:20250503T160000
DTEND;TZID=America/New_York:20250503T190000
DTSTAMP:20260419T182637
CREATED:20250428T144042Z
LAST-MODIFIED:20250428T144115Z
UID:19114-1746288000-1746298800@www.easthamptoncityarts.com
SUMMARY:Tour Old Town Hall
DESCRIPTION:Join CitySpace for a tour of the second floor of Old Town Hall. While you are at Old Town Hall check out the gallery exhibitions at the Elusie and ECA galleries\, the tiny Pop-Up Market and CitySpace Bluegrass.\nThe tour is free and open to the public.
URL:https://www.easthamptoncityarts.com/event/tour-old-town-hall-7/
LOCATION:CitySpace\, 43 Main St\, Easthampton\, MA\, 01027\, United States
CATEGORIES:Art Walk
ATTACH;FMTTYPE=image/jpeg:https://www.easthamptoncityarts.com/wp-content/uploads/2025/04/cityspace_2ndfloor.jpg
ORGANIZER;CN="CitySpace":MAILTO:info@cityspaceeasthampton.org
END:VEVENT
BEGIN:VEVENT
DTSTART;TZID=America/New_York:20250503T160000
DTEND;TZID=America/New_York:20250503T190000
DTSTAMP:20260419T182637
CREATED:20250428T144219Z
LAST-MODIFIED:20250428T153628Z
UID:19107-1746288000-1746298800@www.easthamptoncityarts.com
SUMMARY:CitySpace Pop-Up Market
DESCRIPTION:In 2025\, CitySpace is hosting a series of mini Pop-Up Markets on the first Saturday of the month from 4-7PM during CitySpace Bluegrass and Art Walk Easthampton. \nMay 4\n\nDenise M. Riggs Photography\nMars Arts\nPaul Specht
URL:https://www.easthamptoncityarts.com/event/cityspace-pop-up-market-4/
LOCATION:CitySpace\, 43 Main St\, Easthampton\, MA\, 01027\, United States
CATEGORIES:Art Walk
ATTACH;FMTTYPE=image/png:https://www.easthamptoncityarts.com/wp-content/uploads/2025/04/pop-up-4.png
ORGANIZER;CN="CitySpace":MAILTO:info@cityspaceeasthampton.org
END:VEVENT
BEGIN:VEVENT
DTSTART;TZID=America/New_York:20250503T160000
DTEND;TZID=America/New_York:20250503T190000
DTSTAMP:20260419T182637
CREATED:20250428T144315Z
LAST-MODIFIED:20250428T144315Z
UID:19082-1746288000-1746298800@www.easthamptoncityarts.com
SUMMARY:Fiber Lounge @ Alchemy Fiber Mill - plus\, make a felted jellyfish!
DESCRIPTION:Visit Alchemy Fiber Mill during Art Walk! We are a small-batch fiber processing mill creating a link between local farmers and makers with our heirloom quality yarn and fiber. Find us in our Eastworks studio\, suite 028 (ground floor\, down the hall from Daily Operation Restaurant). Our pop-up shop offers yarn\, roving\, batts\, footstool kits and more. Check out what we’ve been milling! \nFiber Lounge: BYOP (bring your own project) where you can meet other makers\, register for a class\, stay and hang out for a bit. We’d love to see what you’re working on! We’re planning our next round of classes and workshops\, so stop by and let us know what you are interested in. \nNew addition for this month! We have a special make & take felted jellyfish project for you. No experience necessary. All materials provided for $10. If you have any wool locks you don’t know what to do with\, this would be a great use.
URL:https://www.easthamptoncityarts.com/event/fiber-lounge-alchemy-fiber-mill-plus-make-a-felted-jellyfish/
LOCATION:Alchemy Fiber Mill\, 116 Pleasant Street Suite 028\, Easthampton\, 01027\, United States
CATEGORIES:Art Walk
ATTACH;FMTTYPE=image/png:https://www.easthamptoncityarts.com/wp-content/uploads/2025/04/fiber-lounge-popup-shop-10.png
ORGANIZER;CN="Alchemy Fiber Mill":MAILTO:alchemyfibermill@gmail.com
END:VEVENT
BEGIN:VEVENT
DTSTART;TZID=America/New_York:20250503T160000
DTEND;TZID=America/New_York:20250503T190000
DTSTAMP:20260419T182637
CREATED:20250428T144450Z
LAST-MODIFIED:20250428T144450Z
UID:19071-1746288000-1746298800@www.easthamptoncityarts.com
SUMMARY:Studio #036 Eastworks Open Studio
DESCRIPTION:Open Studio viewing of Urbanscapes\, Still Life & Nature Studies in Oil\, Watercolor & Ink \n 
URL:https://www.easthamptoncityarts.com/event/studio-036-eastworks-open-studio/
LOCATION:Eastworks\, 116 Pleasant St. West End Community Room\, Easthampton\, MA\, 01027\, United States
CATEGORIES:Art Walk
ATTACH;FMTTYPE=image/jpeg:https://www.easthamptoncityarts.com/wp-content/uploads/2025/04/miss-yvette-1.jpg
END:VEVENT
BEGIN:VEVENT
DTSTART;TZID=America/New_York:20250503T160000
DTEND;TZID=America/New_York:20250503T190000
DTSTAMP:20260419T182637
CREATED:20250429T132901Z
LAST-MODIFIED:20250429T132901Z
UID:19080-1746288000-1746298800@www.easthamptoncityarts.com
SUMMARY:CitySpace Bluegrass
DESCRIPTION:When: May 3\, 2025\, 4–7 PM\, then every first Saturday of the month.\nWhat: CitySpace Bluegrass – A high-energy monthly bluegrass jam\nWhere: The Blue Room at Old Town Hall\, 43 Main Street\, Easthampton\, MA\nPickers\, Singers & Strummers. FREE – All are welcome! All ages. \nCalling all bluegrass lovers! Come on down to Easthampton Old Town Hall for an open bluegrass jam! Dust off your favorite Bill Monroe\, Stanley Brothers and beyond songs\, and scratch the itch to pick at the launch of a monthly jam! Bluegrass musician David Clark Carroll and CitySpace presents CitySpace Bluegrass\, a new monthly bluegrass jam designed to bring the community together in the spirit of music\, joy\, and good old-fashioned fun. \nCitySpace Bluegrass will light up the first Saturday of every month from 4–7 PM in the heart of downtown Easthampton during Art Walk.
URL:https://www.easthamptoncityarts.com/event/cityspace-bluegrass-4/
LOCATION:CitySpace\, 43 Main St\, Easthampton\, MA\, 01027\, United States
CATEGORIES:Art Walk
ATTACH;FMTTYPE=image/png:https://www.easthamptoncityarts.com/wp-content/uploads/2025/04/squarecolors_general.png
ORGANIZER;CN="CitySpace":MAILTO:info@cityspaceeasthampton.org
END:VEVENT
BEGIN:VEVENT
DTSTART;TZID=America/New_York:20250503T160000
DTEND;TZID=America/New_York:20250503T200000
DTSTAMP:20260419T182637
CREATED:20250423T215443Z
LAST-MODIFIED:20250423T215443Z
UID:18995-1746288000-1746302400@www.easthamptoncityarts.com
SUMMARY:Look At Yourself
DESCRIPTION:“LOOK AT YOURSELF ” \nis \nthe newest showing of paintings by \nLuke J. Cavagnac \nat \nTHE INVISIBLE FOUNTAIN \n116 Pleasant Street Suite #206 \nEastworks Building \nEasthampton MA 01027 \n413.404.7346 \nlukecavagnac@gmail.com \ninvisiblefountain.com \ngallery open: Monday – Friday + sometimes on the weekend \nPlease come to the Opening/Party: \nSATURDAY\, MAY 3rd\, 2025 \nfrom 4 to 8 p.m. \nLook around. \nLook at the walls. \nLook at the paintings. \nLook at yourself. \nThe Invisible Fountain is where painter Luke Cavagnac creates and displays his work. \n1000 different paintings on display everyday. \nART FOR ALL & ALL FOR ART \n*shop online at invisiblefountain.etsy.com
URL:https://www.easthamptoncityarts.com/event/look-at-yourself/
LOCATION:The Invisible Fountain\, 116 Pleasant St\,\, Easthampton\, MA\, 01027\, United States
CATEGORIES:Art Walk
ATTACH;FMTTYPE=image/jpeg:https://www.easthamptoncityarts.com/wp-content/uploads/2025/04/img_0315-scaled.jpeg
END:VEVENT
BEGIN:VEVENT
DTSTART;TZID=America/New_York:20250503T160000
DTEND;TZID=America/New_York:20250604T190000
DTSTAMP:20260419T182637
CREATED:20250424T151716Z
LAST-MODIFIED:20250424T151716Z
UID:19002-1746288000-1749063600@www.easthamptoncityarts.com
SUMMARY:Jenny Tibbetts at ECA Gallery
DESCRIPTION:An exhibition of paintings by Jenny Tibbetts. The paintings are semi abstract images based on urban landscape. Tibbetts uses the effects of sunlight and shadow on concrete walls\, alleyways and streets\, transforming mundane structures into unique colorful compositions.
URL:https://www.easthamptoncityarts.com/event/jenny-tibbetts-at-eca-gallery/
LOCATION:Easthampton City Arts Gallery\, MA\, United States
CATEGORIES:Art Walk
ATTACH;FMTTYPE=image/jpeg:https://www.easthamptoncityarts.com/wp-content/uploads/2025/04/1-jenny-urbana-final-1-scaled.jpg
END:VEVENT
BEGIN:VEVENT
DTSTART;TZID=America/New_York:20250503T170000
DTEND;TZID=America/New_York:20250503T200000
DTSTAMP:20260419T182637
CREATED:20250430T103059Z
LAST-MODIFIED:20250430T103059Z
UID:19155-1746291600-1746302400@www.easthamptoncityarts.com
SUMMARY:Vintage Bridal\, formalwear and Prom Event
DESCRIPTION:Are you going to be a Bride? Mother of the Bride or Groom\, guest at a backyard wedding or black tie affair? Do you have a dress for Prom yet? \nYou are invited to an evening filled with the beauty of Vintage Formalwear. Saturday May 3rd 5-8pm join us at Wonderland to find that perfect piece for whatever Event you have coming up this Spring!
URL:https://www.easthamptoncityarts.com/event/vintage-bridal-formalwear-and-prom-event/
LOCATION:Wonderland\, 56 Cottage Street\, Easthampton\, MA\, 01027\, United States
CATEGORIES:Art Walk
ATTACH;FMTTYPE=image/jpeg:https://www.easthamptoncityarts.com/wp-content/uploads/2025/04/img_8095-scaled.jpeg
ORGANIZER;CN="Wonderland":MAILTO:beth@wonderland413.com
END:VEVENT
BEGIN:VEVENT
DTSTART;TZID=America/New_York:20250503T183000
DTEND;TZID=America/New_York:20250503T200000
DTSTAMP:20260419T182637
CREATED:20250502T013631Z
LAST-MODIFIED:20250502T013631Z
UID:19198-1746297000-1746302400@www.easthamptoncityarts.com
SUMMARY:Beaded Daisy Chain Bracelet Workshop
DESCRIPTION:Come learn how to string the classic beaded daisy chain in your choice of colors. Tie on or get a clasp attached for $2. No experience necessary!
URL:https://www.easthamptoncityarts.com/event/beaded-daisy-chain-bracelet-workshop/
LOCATION:Peacock’s Nest\, 47a Cottage St\, Easthampton\, MA\, 01027\, United States
CATEGORIES:Art Walk
ATTACH;FMTTYPE=image/jpeg:https://www.easthamptoncityarts.com/wp-content/uploads/2025/05/daisy-pride.jpg
ORGANIZER;CN="Peacock's Nest":MAILTO:artist@peacocksneststudio.com
END:VEVENT
END:VCALENDAR