BEGIN:VCALENDAR
VERSION:2.0
PRODID:-//Easthampton City Arts - ECPv6.15.18//NONSGML v1.0//EN
CALSCALE:GREGORIAN
METHOD:PUBLISH
X-WR-CALNAME:Easthampton City Arts
X-ORIGINAL-URL:https://www.easthamptoncityarts.com
X-WR-CALDESC:Events for Easthampton City Arts
REFRESH-INTERVAL;VALUE=DURATION:PT1H
X-Robots-Tag:noindex
X-PUBLISHED-TTL:PT1H
BEGIN:VTIMEZONE
TZID:America/New_York
BEGIN:DAYLIGHT
TZOFFSETFROM:-0500
TZOFFSETTO:-0400
TZNAME:EDT
DTSTART:20220313T070000
END:DAYLIGHT
BEGIN:STANDARD
TZOFFSETFROM:-0400
TZOFFSETTO:-0500
TZNAME:EST
DTSTART:20221106T060000
END:STANDARD
BEGIN:DAYLIGHT
TZOFFSETFROM:-0500
TZOFFSETTO:-0400
TZNAME:EDT
DTSTART:20230312T070000
END:DAYLIGHT
BEGIN:STANDARD
TZOFFSETFROM:-0400
TZOFFSETTO:-0500
TZNAME:EST
DTSTART:20231105T060000
END:STANDARD
BEGIN:DAYLIGHT
TZOFFSETFROM:-0500
TZOFFSETTO:-0400
TZNAME:EDT
DTSTART:20240310T070000
END:DAYLIGHT
BEGIN:STANDARD
TZOFFSETFROM:-0400
TZOFFSETTO:-0500
TZNAME:EST
DTSTART:20241103T060000
END:STANDARD
END:VTIMEZONE
BEGIN:VEVENT
DTSTART;TZID=America/New_York:20230609T173000
DTEND;TZID=America/New_York:20230609T200000
DTSTAMP:20260420T193332
CREATED:20230601T213432Z
LAST-MODIFIED:20230601T213432Z
UID:13192-1686331800-1686340800@www.easthamptoncityarts.com
SUMMARY:Women of the Antebellum
DESCRIPTION:This captivating collection delves deep into the narratives of women from the Antebellum era\, unveiling their strength\, resilience\, and untold stories. To ensure that you have a truly immersive and personalized experience\, we highly recommend making an appointment to view this exceptional show.
URL:https://www.easthamptoncityarts.com/event/women-of-the-antebellum/
LOCATION:50 arrow Gallery\, 116 Pleasant St.\, Suite 244\, Easthampton\, MA\, 01027\, United States
CATEGORIES:Art Walk
ATTACH;FMTTYPE=image/jpeg:https://www.easthamptoncityarts.com/wp-content/uploads/2023/06/b53dbcd9-8553-ac9e-4f27-6f0204b820fb.jpg
END:VEVENT
END:VCALENDAR