BEGIN:VCALENDAR
VERSION:2.0
PRODID:-//Easthampton City Arts - ECPv6.15.18//NONSGML v1.0//EN
CALSCALE:GREGORIAN
METHOD:PUBLISH
X-ORIGINAL-URL:https://www.easthamptoncityarts.com
X-WR-CALDESC:Events for Easthampton City Arts
REFRESH-INTERVAL;VALUE=DURATION:PT1H
X-Robots-Tag:noindex
X-PUBLISHED-TTL:PT1H
BEGIN:VTIMEZONE
TZID:America/New_York
BEGIN:DAYLIGHT
TZOFFSETFROM:-0500
TZOFFSETTO:-0400
TZNAME:EDT
DTSTART:20220313T070000
END:DAYLIGHT
BEGIN:STANDARD
TZOFFSETFROM:-0400
TZOFFSETTO:-0500
TZNAME:EST
DTSTART:20221106T060000
END:STANDARD
BEGIN:DAYLIGHT
TZOFFSETFROM:-0500
TZOFFSETTO:-0400
TZNAME:EDT
DTSTART:20230312T070000
END:DAYLIGHT
BEGIN:STANDARD
TZOFFSETFROM:-0400
TZOFFSETTO:-0500
TZNAME:EST
DTSTART:20231105T060000
END:STANDARD
BEGIN:DAYLIGHT
TZOFFSETFROM:-0500
TZOFFSETTO:-0400
TZNAME:EDT
DTSTART:20240310T070000
END:DAYLIGHT
BEGIN:STANDARD
TZOFFSETFROM:-0400
TZOFFSETTO:-0500
TZNAME:EST
DTSTART:20241103T060000
END:STANDARD
END:VTIMEZONE
BEGIN:VEVENT
DTSTART;TZID=America/New_York:20230427T170000
DTEND;TZID=America/New_York:20230427T200000
DTSTAMP:20260420T035331
CREATED:20230428T122357Z
LAST-MODIFIED:20230428T122357Z
UID:13110-1682614800-1682625600@www.easthamptoncityarts.com
SUMMARY:Cyndy Sperry’s “Peaceable Kingdom” with ceramics by Joanna Dunn will be on exhibit @ the Oxbow gallery.
DESCRIPTION:Cyndy Sperry will be showing new paintings and drawings\, back Gallery\,  that derive inspiration from Edward Hicks (1780-1849)\, a 19th Century American Quaker who ministered\, farmed\, built coaches\, and made over 60 paintings related to the theme of a “Peaceable Kingdom” in the last decade of his life.  Former Oxbow member Joanna Dunn will be sharing new ceramics and prints similarly inspired by Edward Hick’s work.  Below\, “Peaceable Kingdom\,” oil on panel\, 36 x 36”
URL:https://www.easthamptoncityarts.com/event/cyndy-sperrys-peaceable-kingdom-with-ceramics-by-joanna-dunn-will-be-on-exhibit-the-oxbow-gallery/
LOCATION:Oxbow Art Gallery\, 40 Cottage Street\, Easthampton\, MA\, 01027\, United States
CATEGORIES:Art Walk
ATTACH;FMTTYPE=image/jpeg:https://www.easthamptoncityarts.com/wp-content/uploads/2023/04/cyndy-1.jpg
END:VEVENT
END:VCALENDAR