BEGIN:VCALENDAR
VERSION:2.0
PRODID:-//Easthampton City Arts - ECPv6.15.18//NONSGML v1.0//EN
CALSCALE:GREGORIAN
METHOD:PUBLISH
X-WR-CALNAME:Easthampton City Arts
X-ORIGINAL-URL:https://www.easthamptoncityarts.com
X-WR-CALDESC:Events for Easthampton City Arts
REFRESH-INTERVAL;VALUE=DURATION:PT1H
X-Robots-Tag:noindex
X-PUBLISHED-TTL:PT1H
BEGIN:VTIMEZONE
TZID:America/New_York
BEGIN:DAYLIGHT
TZOFFSETFROM:-0500
TZOFFSETTO:-0400
TZNAME:EDT
DTSTART:20190310T070000
END:DAYLIGHT
BEGIN:STANDARD
TZOFFSETFROM:-0400
TZOFFSETTO:-0500
TZNAME:EST
DTSTART:20191103T060000
END:STANDARD
BEGIN:DAYLIGHT
TZOFFSETFROM:-0500
TZOFFSETTO:-0400
TZNAME:EDT
DTSTART:20200308T070000
END:DAYLIGHT
BEGIN:STANDARD
TZOFFSETFROM:-0400
TZOFFSETTO:-0500
TZNAME:EST
DTSTART:20201101T060000
END:STANDARD
BEGIN:DAYLIGHT
TZOFFSETFROM:-0500
TZOFFSETTO:-0400
TZNAME:EDT
DTSTART:20210314T070000
END:DAYLIGHT
BEGIN:STANDARD
TZOFFSETFROM:-0400
TZOFFSETTO:-0500
TZNAME:EST
DTSTART:20211107T060000
END:STANDARD
END:VTIMEZONE
BEGIN:VEVENT
DTSTART;TZID=America/New_York:20200207T130000
DTEND;TZID=America/New_York:20200301T130000
DTSTAMP:20260420T142701
CREATED:20200113T225251Z
LAST-MODIFIED:20200113T225401Z
UID:6063-1581080400-1583067600@www.easthamptoncityarts.com
SUMMARY:Love thy Beautiful Neighbors
DESCRIPTION:February has typically been the month for lovers at the Elusie Gallery. \n\nBut this year we find it difficult to celebrate love when intolerance and discrimination seem to be the new normal\, and the basic right to love and be loved is being taken away from so many\, whether it is the mass incarceration of children at the southern border or the wave of new anti-LGBTQ legislation being passed or considered in many parts of the country.\n\nBecause we should not accept this new normal\, and because LOVE needs to be celebrated\, always\, we have invited artists to submit artwork that celebrate a more universal kind of love\, the love of our neighbors\, ALL our neighbors\, the ones across the street\, across the border or across gender identifications. Love thy Beautiful Neighbors showcases the love of our differences\, these beautiful differences that still – and always will – define and unite this country.
URL:https://www.easthamptoncityarts.com/event/love-thy-beautiful-neighbors/
LOCATION:Elusie Gallery at Big Red Frame\, 43 Main Street\, Easthampton\, MA\, 01027\, United States
CATEGORIES:Art Walk,Easthampton Events,Public Art
ATTACH;FMTTYPE=image/jpeg:https://www.easthamptoncityarts.com/wp-content/uploads/2020/01/thy-neighbors_sharp.jpg
END:VEVENT
END:VCALENDAR