BEGIN:VCALENDAR
VERSION:2.0
PRODID:-//Easthampton City Arts - ECPv6.15.18//NONSGML v1.0//EN
CALSCALE:GREGORIAN
METHOD:PUBLISH
X-WR-CALNAME:Easthampton City Arts
X-ORIGINAL-URL:https://www.easthamptoncityarts.com
X-WR-CALDESC:Events for Easthampton City Arts
REFRESH-INTERVAL;VALUE=DURATION:PT1H
X-Robots-Tag:noindex
X-PUBLISHED-TTL:PT1H
BEGIN:VTIMEZONE
TZID:America/New_York
BEGIN:DAYLIGHT
TZOFFSETFROM:-0500
TZOFFSETTO:-0400
TZNAME:EDT
DTSTART:20190310T070000
END:DAYLIGHT
BEGIN:STANDARD
TZOFFSETFROM:-0400
TZOFFSETTO:-0500
TZNAME:EST
DTSTART:20191103T060000
END:STANDARD
BEGIN:DAYLIGHT
TZOFFSETFROM:-0500
TZOFFSETTO:-0400
TZNAME:EDT
DTSTART:20200308T070000
END:DAYLIGHT
BEGIN:STANDARD
TZOFFSETFROM:-0400
TZOFFSETTO:-0500
TZNAME:EST
DTSTART:20201101T060000
END:STANDARD
BEGIN:DAYLIGHT
TZOFFSETFROM:-0500
TZOFFSETTO:-0400
TZNAME:EDT
DTSTART:20210314T070000
END:DAYLIGHT
BEGIN:STANDARD
TZOFFSETFROM:-0400
TZOFFSETTO:-0500
TZNAME:EST
DTSTART:20211107T060000
END:STANDARD
END:VTIMEZONE
BEGIN:VEVENT
DTSTART;TZID=America/New_York:20200123T050000
DTEND;TZID=America/New_York:20200123T070000
DTSTAMP:20260423T201538
CREATED:20200122T214758Z
LAST-MODIFIED:20200122T214758Z
UID:6161-1579755600-1579762800@www.easthamptoncityarts.com
SUMMARY:Sit and Write with Seth Harwood
DESCRIPTION:Weekly Thursdays!\nDrop in to Sit and Write at the Alcoves. Come join fellow writers to meet\, say hello\, and then sit for two 45-minute quiet writing sessions. This event is open to writers of all genres and levels.\n \nCoffee\, tea\, and water available. For more info or to express interest in an alternative time\, please contact Seth Harwood.
URL:https://www.easthamptoncityarts.com/event/sit-and-write-with-seth-harwood/
LOCATION:Emily Williston Memorial Library\, 9 Park Street\, Easthampton\, MA\, 01027
ATTACH;FMTTYPE=image/jpeg:https://www.easthamptoncityarts.com/wp-content/uploads/2020/01/sit-and-write.jpg
ORGANIZER;CN="Seth Harwood":MAILTO:sethharwood@gmail.com
END:VEVENT
END:VCALENDAR