BEGIN:VCALENDAR
VERSION:2.0
PRODID:-//Easthampton City Arts - ECPv6.15.18//NONSGML v1.0//EN
CALSCALE:GREGORIAN
METHOD:PUBLISH
X-WR-CALNAME:Easthampton City Arts
X-ORIGINAL-URL:https://www.easthamptoncityarts.com
X-WR-CALDESC:Events for Easthampton City Arts
REFRESH-INTERVAL;VALUE=DURATION:PT1H
X-Robots-Tag:noindex
X-PUBLISHED-TTL:PT1H
BEGIN:VTIMEZONE
TZID:America/New_York
BEGIN:DAYLIGHT
TZOFFSETFROM:-0500
TZOFFSETTO:-0400
TZNAME:EDT
DTSTART:20180311T070000
END:DAYLIGHT
BEGIN:STANDARD
TZOFFSETFROM:-0400
TZOFFSETTO:-0500
TZNAME:EST
DTSTART:20181104T060000
END:STANDARD
BEGIN:DAYLIGHT
TZOFFSETFROM:-0500
TZOFFSETTO:-0400
TZNAME:EDT
DTSTART:20190310T070000
END:DAYLIGHT
BEGIN:STANDARD
TZOFFSETFROM:-0400
TZOFFSETTO:-0500
TZNAME:EST
DTSTART:20191103T060000
END:STANDARD
BEGIN:DAYLIGHT
TZOFFSETFROM:-0500
TZOFFSETTO:-0400
TZNAME:EDT
DTSTART:20200308T070000
END:DAYLIGHT
BEGIN:STANDARD
TZOFFSETFROM:-0400
TZOFFSETTO:-0500
TZNAME:EST
DTSTART:20201101T060000
END:STANDARD
END:VTIMEZONE
BEGIN:VEVENT
DTSTART;TZID=America/New_York:20191122T123000
DTEND;TZID=America/New_York:20191122T163000
DTSTAMP:20260424T161723
CREATED:20191120T225341Z
LAST-MODIFIED:20191120T225341Z
UID:5973-1574425800-1574440200@www.easthamptoncityarts.com
SUMMARY:Art Show Reception & On-the-Spot Sketching
DESCRIPTION:Art Show Reception with On-the-Spot Sketching from 7 – 8 p.m. \nSketches Available for Purchase by acclaimed visiting Australian artist & illustrator Kathleen Jennings. Art exhibit with original illustrations for books by Holly Black\, Cassandra Clare\, Kij Johnson\, Margo Lanagan\, and more.
URL:https://www.easthamptoncityarts.com/event/art-show-reception-on-the-spot-sketching/
LOCATION:Book Moon\, 86 Cottage Street\, EASTHAMPTON\, MA\, 01027\, United States
CATEGORIES:Public Art
ATTACH;FMTTYPE=image/png:https://www.easthamptoncityarts.com/wp-content/uploads/2019/11/sketching.png
ORGANIZER;CN="Book Moon":MAILTO:info@bookmoonbooks.com
END:VEVENT
END:VCALENDAR