BEGIN:VCALENDAR
VERSION:2.0
PRODID:-//Easthampton City Arts - ECPv6.15.18//NONSGML v1.0//EN
CALSCALE:GREGORIAN
METHOD:PUBLISH
X-WR-CALNAME:Easthampton City Arts
X-ORIGINAL-URL:https://www.easthamptoncityarts.com
X-WR-CALDESC:Events for Easthampton City Arts
REFRESH-INTERVAL;VALUE=DURATION:PT1H
X-Robots-Tag:noindex
X-PUBLISHED-TTL:PT1H
BEGIN:VTIMEZONE
TZID:America/New_York
BEGIN:DAYLIGHT
TZOFFSETFROM:-0500
TZOFFSETTO:-0400
TZNAME:EDT
DTSTART:20180311T070000
END:DAYLIGHT
BEGIN:STANDARD
TZOFFSETFROM:-0400
TZOFFSETTO:-0500
TZNAME:EST
DTSTART:20181104T060000
END:STANDARD
BEGIN:DAYLIGHT
TZOFFSETFROM:-0500
TZOFFSETTO:-0400
TZNAME:EDT
DTSTART:20190310T070000
END:DAYLIGHT
BEGIN:STANDARD
TZOFFSETFROM:-0400
TZOFFSETTO:-0500
TZNAME:EST
DTSTART:20191103T060000
END:STANDARD
BEGIN:DAYLIGHT
TZOFFSETFROM:-0500
TZOFFSETTO:-0400
TZNAME:EDT
DTSTART:20200308T070000
END:DAYLIGHT
BEGIN:STANDARD
TZOFFSETFROM:-0400
TZOFFSETTO:-0500
TZNAME:EST
DTSTART:20201101T060000
END:STANDARD
END:VTIMEZONE
BEGIN:VEVENT
DTSTART;TZID=America/New_York:20191106T120000
DTEND;TZID=America/New_York:20191106T150000
DTSTAMP:20260424T112954
CREATED:20191108T203746Z
LAST-MODIFIED:20191109T184542Z
UID:5907-1573041600-1573052400@www.easthamptoncityarts.com
SUMMARY:Pop Drop and Roll
DESCRIPTION:Pivot Media has put together a spectacular “pop art” show\, inspired by some of their favorite artists\, including Doc Edgerton and James Turrell.
URL:https://www.easthamptoncityarts.com/event/pop-drop-and-roll/
LOCATION:Crooked Stick Pops\, 116 Pleasant Street\, Ste 162\, Easthampton\, MA\, 01027\, United States
CATEGORIES:Art Walk
ATTACH;FMTTYPE=image/jpeg:https://www.easthamptoncityarts.com/wp-content/uploads/2019/11/20191102_103300.jpg
ORGANIZER;CN="Crooked Stick Pops":MAILTO:julie@crookedstickpops.com
END:VEVENT
BEGIN:VEVENT
DTSTART;TZID=America/New_York:20191106T133000
DTEND;TZID=America/New_York:20191106T150000
DTSTAMP:20260424T112954
CREATED:20191019T194105Z
LAST-MODIFIED:20191019T194105Z
UID:5871-1573047000-1573052400@www.easthamptoncityarts.com
SUMMARY:Comics and Chronic Illness with Grace Desmarais
DESCRIPTION:Author and artist Grace Desmarais is back! Grace will give background on her medical experience and then discuss her comic Spoons: a dairy on chronic illness\, Tubes: diaries from the hospital and her up-coming book Healing Year. She will then hold a Q&A. At the end\, attendees will have an opportunity to buy her mini comics and have them signed. \nArtist Bio:\nGrace Desmarais is a French-Canadian illustrator and cartoonist. She currently lives in Eastern Massachusetts and spends most of her time drawing. \nGrace primarily self-publishes auto-bio comic while also being involved in a variety of anthologies. Most of Grace’s work is rooted in subjects like art history\, dis/ability and personal experience. Her long-term goal is to be a published author/illustrator with a committed comics publisher. \nWhen Grace isn’t drawing she can be found playing Dungeons and Dragons or enjoying a craft beer.
URL:https://www.easthamptoncityarts.com/event/comics-and-chronic-illness-with-grace-desmarais/
LOCATION:Emily Williston Memorial Library\, 9 Park Street\, Easthampton\, MA\, 01027
ATTACH;FMTTYPE=image/png:https://www.easthamptoncityarts.com/wp-content/uploads/2019/10/comics-and-chronic-illness.png
END:VEVENT
END:VCALENDAR