BEGIN:VCALENDAR
VERSION:2.0
PRODID:-//Easthampton City Arts - ECPv6.15.18//NONSGML v1.0//EN
CALSCALE:GREGORIAN
METHOD:PUBLISH
X-WR-CALNAME:Easthampton City Arts
X-ORIGINAL-URL:https://www.easthamptoncityarts.com
X-WR-CALDESC:Events for Easthampton City Arts
REFRESH-INTERVAL;VALUE=DURATION:PT1H
X-Robots-Tag:noindex
X-PUBLISHED-TTL:PT1H
BEGIN:VTIMEZONE
TZID:America/New_York
BEGIN:DAYLIGHT
TZOFFSETFROM:-0500
TZOFFSETTO:-0400
TZNAME:EDT
DTSTART:20180311T070000
END:DAYLIGHT
BEGIN:STANDARD
TZOFFSETFROM:-0400
TZOFFSETTO:-0500
TZNAME:EST
DTSTART:20181104T060000
END:STANDARD
BEGIN:DAYLIGHT
TZOFFSETFROM:-0500
TZOFFSETTO:-0400
TZNAME:EDT
DTSTART:20190310T070000
END:DAYLIGHT
BEGIN:STANDARD
TZOFFSETFROM:-0400
TZOFFSETTO:-0500
TZNAME:EST
DTSTART:20191103T060000
END:STANDARD
BEGIN:DAYLIGHT
TZOFFSETFROM:-0500
TZOFFSETTO:-0400
TZNAME:EDT
DTSTART:20200308T070000
END:DAYLIGHT
BEGIN:STANDARD
TZOFFSETFROM:-0400
TZOFFSETTO:-0500
TZNAME:EST
DTSTART:20201101T060000
END:STANDARD
END:VTIMEZONE
BEGIN:VEVENT
DTSTART;TZID=America/New_York:20191026T090000
DTEND;TZID=America/New_York:20191026T101500
DTSTAMP:20260424T152558
CREATED:20191030T211453Z
LAST-MODIFIED:20191030T211453Z
UID:5879-1572080400-1572084900@www.easthamptoncityarts.com
SUMMARY:Youth Singer/Songwriter Workshop & Open Mic with BJ Korona
DESCRIPTION:If you are a young singer/songwriter or the parent of one\, this is an opportunity of a lifetime to gain really valuable performance and songwriting experience and learn from a pro! BJ Korona leads this monthly singer/songwriter workshop and open mic. For ages 7-16. Each session begins with songwriting workshop and is followed by an Open Mic. All levels are welcome. The emphasis is on FUN!!! BJ knows how to laugh and teaches with joy! Questions? email brucejkorona@gmail.com or Facebook message BJ Korona.
URL:https://www.easthamptoncityarts.com/event/youth-singer-songwriter-workshop-open-mic-with-bj-korona/
LOCATION:Mill 180 Park\, 180 Pleasant St #217\, Easthampton\, MA\, United States
CATEGORIES:Classes & Workshops
ATTACH;FMTTYPE=image/jpeg:https://www.easthamptoncityarts.com/wp-content/uploads/2019/10/bj-korona-youth-open-mic.jpg
ORGANIZER;CN="Susanna White":MAILTO:art@susannawhite.com
END:VEVENT
END:VCALENDAR