BEGIN:VCALENDAR
VERSION:2.0
PRODID:-//Easthampton City Arts - ECPv6.15.18//NONSGML v1.0//EN
CALSCALE:GREGORIAN
METHOD:PUBLISH
X-WR-CALNAME:Easthampton City Arts
X-ORIGINAL-URL:https://www.easthamptoncityarts.com
X-WR-CALDESC:Events for Easthampton City Arts
REFRESH-INTERVAL;VALUE=DURATION:PT1H
X-Robots-Tag:noindex
X-PUBLISHED-TTL:PT1H
BEGIN:VTIMEZONE
TZID:America/New_York
BEGIN:DAYLIGHT
TZOFFSETFROM:-0500
TZOFFSETTO:-0400
TZNAME:EDT
DTSTART:20180311T070000
END:DAYLIGHT
BEGIN:STANDARD
TZOFFSETFROM:-0400
TZOFFSETTO:-0500
TZNAME:EST
DTSTART:20181104T060000
END:STANDARD
BEGIN:DAYLIGHT
TZOFFSETFROM:-0500
TZOFFSETTO:-0400
TZNAME:EDT
DTSTART:20190310T070000
END:DAYLIGHT
BEGIN:STANDARD
TZOFFSETFROM:-0400
TZOFFSETTO:-0500
TZNAME:EST
DTSTART:20191103T060000
END:STANDARD
BEGIN:DAYLIGHT
TZOFFSETFROM:-0500
TZOFFSETTO:-0400
TZNAME:EDT
DTSTART:20200308T070000
END:DAYLIGHT
BEGIN:STANDARD
TZOFFSETFROM:-0400
TZOFFSETTO:-0500
TZNAME:EST
DTSTART:20201101T060000
END:STANDARD
END:VTIMEZONE
BEGIN:VEVENT
DTSTART;TZID=America/New_York:20190929T070000
DTEND;TZID=America/New_York:20190929T090000
DTSTAMP:20260424T164539
CREATED:20180715T191543Z
LAST-MODIFIED:20180929T012118Z
UID:3832-1569740400-1569747600@www.easthamptoncityarts.com
SUMMARY:Have a Heart for Public Art
DESCRIPTION:Event: An all-you-can-eat fundraiser brunch to support public art in Easthampton \nDate: Sunday September 30\nTimes: 11am-1pm\nLocation Name: Galaxy\nAddress: 60 Main Street\nWebsite: https://haveaheartforpublicart2018.eventbrite.com \nJoin Easthampton City Arts & Galaxy for a fundraiser brunch to support public art in Easthampton. Galaxy is generously donating 100% of all proceeds\, which will directly support our City’s public artworks in the form of maintenance\, repair\, and new projects. \nThere are 4 arrival times for the brunch – but feel free to stay for the duration of this special brunch buffet! Please note that the bar will be open but is not included in the prix fixe menu.
URL:https://www.easthamptoncityarts.com/event/have-a-heart-for-public-art/
LOCATION:Galaxy\, 60 Main Street\, Easthampton\, MA\, 01027\, United States
CATEGORIES:Easthampton Events
ATTACH;FMTTYPE=image/jpeg:https://www.easthamptoncityarts.com/wp-content/uploads/2018/07/have-a-heart-for-public-art.jpg
END:VEVENT
END:VCALENDAR