BEGIN:VCALENDAR
VERSION:2.0
PRODID:-//Easthampton City Arts - ECPv6.15.18//NONSGML v1.0//EN
CALSCALE:GREGORIAN
METHOD:PUBLISH
X-ORIGINAL-URL:https://www.easthamptoncityarts.com
X-WR-CALDESC:Events for Easthampton City Arts
REFRESH-INTERVAL;VALUE=DURATION:PT1H
X-Robots-Tag:noindex
X-PUBLISHED-TTL:PT1H
BEGIN:VTIMEZONE
TZID:America/New_York
BEGIN:DAYLIGHT
TZOFFSETFROM:-0500
TZOFFSETTO:-0400
TZNAME:EDT
DTSTART:20180311T070000
END:DAYLIGHT
BEGIN:STANDARD
TZOFFSETFROM:-0400
TZOFFSETTO:-0500
TZNAME:EST
DTSTART:20181104T060000
END:STANDARD
BEGIN:DAYLIGHT
TZOFFSETFROM:-0500
TZOFFSETTO:-0400
TZNAME:EDT
DTSTART:20190310T070000
END:DAYLIGHT
BEGIN:STANDARD
TZOFFSETFROM:-0400
TZOFFSETTO:-0500
TZNAME:EST
DTSTART:20191103T060000
END:STANDARD
BEGIN:DAYLIGHT
TZOFFSETFROM:-0500
TZOFFSETTO:-0400
TZNAME:EDT
DTSTART:20200308T070000
END:DAYLIGHT
BEGIN:STANDARD
TZOFFSETFROM:-0400
TZOFFSETTO:-0500
TZNAME:EST
DTSTART:20201101T060000
END:STANDARD
END:VTIMEZONE
BEGIN:VEVENT
DTSTART;TZID=America/New_York:20190911T140000
DTEND;TZID=America/New_York:20190911T153000
DTSTAMP:20260424T194619
CREATED:20190807T191305Z
LAST-MODIFIED:20190807T191305Z
UID:5483-1568210400-1568215800@www.easthamptoncityarts.com
SUMMARY:Wednesday Night Book Club
DESCRIPTION:Our Wednesday Night Book Club meets the second Wednesday of each month from 6 – 7:30 PM. All are welcome to join the discussion\, no sign-up necessary. \n\n\nPick up copies of monthly selections at the Library or request one through the library catalog. Click on each title for more information. Download and print a copy of the list here: revised 2019 Wednesday Book Club Schedule.
URL:https://www.easthamptoncityarts.com/event/wednesday-night-book-club/
LOCATION:Emily Williston Memorial Library\, 9 Park Street\, Easthampton\, MA\, 01027
CATEGORIES:Easthampton Events
ORGANIZER;CN="Stephanie Levine":MAILTO:slevine@ewmlibrary.org
END:VEVENT
END:VCALENDAR