BEGIN:VCALENDAR
VERSION:2.0
PRODID:-//Easthampton City Arts - ECPv6.15.18//NONSGML v1.0//EN
CALSCALE:GREGORIAN
METHOD:PUBLISH
X-ORIGINAL-URL:https://www.easthamptoncityarts.com
X-WR-CALDESC:Events for Easthampton City Arts
REFRESH-INTERVAL;VALUE=DURATION:PT1H
X-Robots-Tag:noindex
X-PUBLISHED-TTL:PT1H
BEGIN:VTIMEZONE
TZID:America/New_York
BEGIN:DAYLIGHT
TZOFFSETFROM:-0500
TZOFFSETTO:-0400
TZNAME:EDT
DTSTART:20180311T070000
END:DAYLIGHT
BEGIN:STANDARD
TZOFFSETFROM:-0400
TZOFFSETTO:-0500
TZNAME:EST
DTSTART:20181104T060000
END:STANDARD
BEGIN:DAYLIGHT
TZOFFSETFROM:-0500
TZOFFSETTO:-0400
TZNAME:EDT
DTSTART:20190310T070000
END:DAYLIGHT
BEGIN:STANDARD
TZOFFSETFROM:-0400
TZOFFSETTO:-0500
TZNAME:EST
DTSTART:20191103T060000
END:STANDARD
BEGIN:DAYLIGHT
TZOFFSETFROM:-0500
TZOFFSETTO:-0400
TZNAME:EDT
DTSTART:20200308T070000
END:DAYLIGHT
BEGIN:STANDARD
TZOFFSETFROM:-0400
TZOFFSETTO:-0500
TZNAME:EST
DTSTART:20201101T060000
END:STANDARD
END:VTIMEZONE
BEGIN:VEVENT
DTSTART;TZID=America/New_York:20190910T100000
DTEND;TZID=America/New_York:20190910T140000
DTSTAMP:20260424T194648
CREATED:20190913T211151Z
LAST-MODIFIED:20190913T211151Z
UID:5789-1568109600-1568124000@www.easthamptoncityarts.com
SUMMARY:Janna Ugone Lighting Open Studio
DESCRIPTION:See Janna’s latest handmade lighting designs! Pendants\, sconces and lamps….or bring a base of your own to the LampBar and top it with a shade for a fun makeover. Check out what’s in the Outlet this month! Open 2-6:00 the second Sat\,(Art walk eve) and Mon-Fri 10-4:00.
URL:https://www.easthamptoncityarts.com/event/janna-ugone-lighting-open-studio/
LOCATION:MA\, United States
CATEGORIES:All Ages,Art Walk
ATTACH;FMTTYPE=image/jpeg:https://www.easthamptoncityarts.com/wp-content/uploads/2019/09/4e8cc4b5-7867-4145-b393-2b3e1325913f.jpeg
END:VEVENT
END:VCALENDAR