BEGIN:VCALENDAR
VERSION:2.0
PRODID:-//Easthampton City Arts - ECPv6.15.18//NONSGML v1.0//EN
CALSCALE:GREGORIAN
METHOD:PUBLISH
X-ORIGINAL-URL:https://www.easthamptoncityarts.com
X-WR-CALDESC:Events for Easthampton City Arts
REFRESH-INTERVAL;VALUE=DURATION:PT1H
X-Robots-Tag:noindex
X-PUBLISHED-TTL:PT1H
BEGIN:VTIMEZONE
TZID:America/New_York
BEGIN:DAYLIGHT
TZOFFSETFROM:-0500
TZOFFSETTO:-0400
TZNAME:EDT
DTSTART:20180311T070000
END:DAYLIGHT
BEGIN:STANDARD
TZOFFSETFROM:-0400
TZOFFSETTO:-0500
TZNAME:EST
DTSTART:20181104T060000
END:STANDARD
BEGIN:DAYLIGHT
TZOFFSETFROM:-0500
TZOFFSETTO:-0400
TZNAME:EDT
DTSTART:20190310T070000
END:DAYLIGHT
BEGIN:STANDARD
TZOFFSETFROM:-0400
TZOFFSETTO:-0500
TZNAME:EST
DTSTART:20191103T060000
END:STANDARD
BEGIN:DAYLIGHT
TZOFFSETFROM:-0500
TZOFFSETTO:-0400
TZNAME:EDT
DTSTART:20200308T070000
END:DAYLIGHT
BEGIN:STANDARD
TZOFFSETFROM:-0400
TZOFFSETTO:-0500
TZNAME:EST
DTSTART:20201101T060000
END:STANDARD
END:VTIMEZONE
BEGIN:VEVENT
DTSTART;TZID=America/New_York:20190827T143000
DTEND;TZID=America/New_York:20190827T160000
DTSTAMP:20260424T164642
CREATED:20190807T191252Z
LAST-MODIFIED:20190807T191252Z
UID:5481-1566916200-1566921600@www.easthamptoncityarts.com
SUMMARY:Monday Night Book Club
DESCRIPTION:Our Monday Night Book Club meets monthly (except twice in January and not in December) from 6:30 – 8 PM. All are welcome to join the discussion\, no sign-up necessary. \n\n\n*Contact Lauren Marcotte at lardebcal@yahoo.com with any questions regarding cancellation due to weather or early closing. \nPick up copies of monthly selections at the Library or request one through the library catalog. Click on each title to for more information. Download and print a copy of the list here: revised 2019 Monday Book Club Schedule.
URL:https://www.easthamptoncityarts.com/event/monday-night-book-club/
LOCATION:MA\, United States
CATEGORIES:Easthampton Events
ORGANIZER;CN="Stephanie Levine":MAILTO:slevine@ewmlibrary.org
END:VEVENT
END:VCALENDAR